BEGIN:VCALENDAR
VERSION:2.0
PRODID:icalendar-ruby
CALSCALE:GREGORIAN
METHOD:PUBLISH
BEGIN:VEVENT
DTSTAMP:20260425T015328Z
UID:event-22461-2026-04-25T17:30:00+02:00-none
DTSTART;TZID=Europe/Madrid:20260425T173000
DESCRIPTION:La Tomasa Teatro presenta una versión llena de locura\, divers
 ión y mucha música para toda la familia. Con canciones totalmente inédi
 tas que harán que niños y adultos bailen y se emocionen.
SUMMARY:La Cenicienta\, el musical
END:VEVENT
END:VCALENDAR
