BEGIN:VCALENDAR
VERSION:2.0
PRODID:icalendar-ruby
CALSCALE:GREGORIAN
METHOD:PUBLISH
BEGIN:VEVENT
DTSTAMP:20260422T204319Z
UID:event-235-2022-02-12T20:00:00+01:00-none
DTSTART;TZID=Europe/Madrid:20220212T200000
DESCRIPTION:Ambientada en un angosto garaje\, en un barrio obrero de Madrid
 \, cuenta la historia de dos personajes totalmente antagonistas: Paco\, un
  joven radical\, que secuestra a Mariana\, una gitana rumana. 
SUMMARY:"Vértigo del dragón"\, de Finestra Teatro
END:VEVENT
BEGIN:VEVENT
DTSTAMP:20260422T204319Z
UID:event-235-2022-02-13T20:00:00+01:00-none
DTSTART;TZID=Europe/Madrid:20220213T200000
DESCRIPTION:Ambientada en un angosto garaje\, en un barrio obrero de Madrid
 \, cuenta la historia de dos personajes totalmente antagonistas: Paco\, un
  joven radical\, que secuestra a Mariana\, una gitana rumana. 
SUMMARY:"Vértigo del dragón"\, de Finestra Teatro
END:VEVENT
END:VCALENDAR
