BEGIN:VCALENDAR
VERSION:2.0
PRODID:icalendar-ruby
CALSCALE:GREGORIAN
METHOD:PUBLISH
BEGIN:VEVENT
DTSTAMP:20260425T165219Z
UID:event-2509-2022-07-18T10:00:00+02:00-2022-07-18T13:00:00+02:00
DTSTART;TZID=Europe/Madrid:20220718T100000
DTEND;TZID=Europe/Madrid:20220718T130000
DESCRIPTION:En este “Encuentro con artistas: arte emergente y nuevo galer
 ismo”\, que se lleva a cabo coincidiendo con la feria ArteSantander\, pa
 rticipan 5 mujeres profesionales del arte contemporáneo a nivel nacional 
 e internacional. 
SUMMARY:Encuentro con artistas: arte emergente y nuevo galerismo
END:VEVENT
END:VCALENDAR
