BEGIN:VCALENDAR
VERSION:2.0
PRODID:icalendar-ruby
CALSCALE:GREGORIAN
METHOD:PUBLISH
BEGIN:VEVENT
DTSTAMP:20260422T005950Z
UID:event-2584-2022-08-05-2022-08-05
DTSTART;VALUE=DATE:20220805
DTEND;VALUE=DATE:20220805
DESCRIPTION:El trabajo de Bubi Canal combina elementos de la cultura popula
 r con la intuición\, manifestando personajes fantásticos de realidades a
 lternas. 
SUMMARY:Bubi Canal en el escaparate de La Caverna de la Luz
END:VEVENT
BEGIN:VEVENT
DTSTAMP:20260422T005950Z
UID:event-2584-2022-08-06-2022-08-06
DTSTART;VALUE=DATE:20220806
DTEND;VALUE=DATE:20220806
DESCRIPTION:El trabajo de Bubi Canal combina elementos de la cultura popula
 r con la intuición\, manifestando personajes fantásticos de realidades a
 lternas. 
SUMMARY:Bubi Canal en el escaparate de La Caverna de la Luz
END:VEVENT
BEGIN:VEVENT
DTSTAMP:20260422T005950Z
UID:event-2584-2022-08-07-2022-08-07
DTSTART;VALUE=DATE:20220807
DTEND;VALUE=DATE:20220807
DESCRIPTION:El trabajo de Bubi Canal combina elementos de la cultura popula
 r con la intuición\, manifestando personajes fantásticos de realidades a
 lternas. 
SUMMARY:Bubi Canal en el escaparate de La Caverna de la Luz
END:VEVENT
BEGIN:VEVENT
DTSTAMP:20260422T005950Z
UID:event-2584-2022-08-08-2022-08-08
DTSTART;VALUE=DATE:20220808
DTEND;VALUE=DATE:20220808
DESCRIPTION:El trabajo de Bubi Canal combina elementos de la cultura popula
 r con la intuición\, manifestando personajes fantásticos de realidades a
 lternas. 
SUMMARY:Bubi Canal en el escaparate de La Caverna de la Luz
END:VEVENT
BEGIN:VEVENT
DTSTAMP:20260422T005950Z
UID:event-2584-2022-08-09-2022-08-09
DTSTART;VALUE=DATE:20220809
DTEND;VALUE=DATE:20220809
DESCRIPTION:El trabajo de Bubi Canal combina elementos de la cultura popula
 r con la intuición\, manifestando personajes fantásticos de realidades a
 lternas. 
SUMMARY:Bubi Canal en el escaparate de La Caverna de la Luz
END:VEVENT
BEGIN:VEVENT
DTSTAMP:20260422T005950Z
UID:event-2584-2022-08-10-2022-08-10
DTSTART;VALUE=DATE:20220810
DTEND;VALUE=DATE:20220810
DESCRIPTION:El trabajo de Bubi Canal combina elementos de la cultura popula
 r con la intuición\, manifestando personajes fantásticos de realidades a
 lternas. 
SUMMARY:Bubi Canal en el escaparate de La Caverna de la Luz
END:VEVENT
BEGIN:VEVENT
DTSTAMP:20260422T005950Z
UID:event-2584-2022-08-11-2022-08-11
DTSTART;VALUE=DATE:20220811
DTEND;VALUE=DATE:20220811
DESCRIPTION:El trabajo de Bubi Canal combina elementos de la cultura popula
 r con la intuición\, manifestando personajes fantásticos de realidades a
 lternas. 
SUMMARY:Bubi Canal en el escaparate de La Caverna de la Luz
END:VEVENT
BEGIN:VEVENT
DTSTAMP:20260422T005950Z
UID:event-2584-2022-08-12-2022-08-12
DTSTART;VALUE=DATE:20220812
DTEND;VALUE=DATE:20220812
DESCRIPTION:El trabajo de Bubi Canal combina elementos de la cultura popula
 r con la intuición\, manifestando personajes fantásticos de realidades a
 lternas. 
SUMMARY:Bubi Canal en el escaparate de La Caverna de la Luz
END:VEVENT
BEGIN:VEVENT
DTSTAMP:20260422T005950Z
UID:event-2584-2022-08-13-2022-08-13
DTSTART;VALUE=DATE:20220813
DTEND;VALUE=DATE:20220813
DESCRIPTION:El trabajo de Bubi Canal combina elementos de la cultura popula
 r con la intuición\, manifestando personajes fantásticos de realidades a
 lternas. 
SUMMARY:Bubi Canal en el escaparate de La Caverna de la Luz
END:VEVENT
BEGIN:VEVENT
DTSTAMP:20260422T005950Z
UID:event-2584-2022-08-14-2022-08-14
DTSTART;VALUE=DATE:20220814
DTEND;VALUE=DATE:20220814
DESCRIPTION:El trabajo de Bubi Canal combina elementos de la cultura popula
 r con la intuición\, manifestando personajes fantásticos de realidades a
 lternas. 
SUMMARY:Bubi Canal en el escaparate de La Caverna de la Luz
END:VEVENT
BEGIN:VEVENT
DTSTAMP:20260422T005950Z
UID:event-2584-2022-08-15-2022-08-15
DTSTART;VALUE=DATE:20220815
DTEND;VALUE=DATE:20220815
DESCRIPTION:El trabajo de Bubi Canal combina elementos de la cultura popula
 r con la intuición\, manifestando personajes fantásticos de realidades a
 lternas. 
SUMMARY:Bubi Canal en el escaparate de La Caverna de la Luz
END:VEVENT
BEGIN:VEVENT
DTSTAMP:20260422T005950Z
UID:event-2584-2022-08-16-2022-08-16
DTSTART;VALUE=DATE:20220816
DTEND;VALUE=DATE:20220816
DESCRIPTION:El trabajo de Bubi Canal combina elementos de la cultura popula
 r con la intuición\, manifestando personajes fantásticos de realidades a
 lternas. 
SUMMARY:Bubi Canal en el escaparate de La Caverna de la Luz
END:VEVENT
BEGIN:VEVENT
DTSTAMP:20260422T005950Z
UID:event-2584-2022-08-17-2022-08-17
DTSTART;VALUE=DATE:20220817
DTEND;VALUE=DATE:20220817
DESCRIPTION:El trabajo de Bubi Canal combina elementos de la cultura popula
 r con la intuición\, manifestando personajes fantásticos de realidades a
 lternas. 
SUMMARY:Bubi Canal en el escaparate de La Caverna de la Luz
END:VEVENT
BEGIN:VEVENT
DTSTAMP:20260422T005950Z
UID:event-2584-2022-08-18-2022-08-18
DTSTART;VALUE=DATE:20220818
DTEND;VALUE=DATE:20220818
DESCRIPTION:El trabajo de Bubi Canal combina elementos de la cultura popula
 r con la intuición\, manifestando personajes fantásticos de realidades a
 lternas. 
SUMMARY:Bubi Canal en el escaparate de La Caverna de la Luz
END:VEVENT
BEGIN:VEVENT
DTSTAMP:20260422T005950Z
UID:event-2584-2022-08-19-2022-08-19
DTSTART;VALUE=DATE:20220819
DTEND;VALUE=DATE:20220819
DESCRIPTION:El trabajo de Bubi Canal combina elementos de la cultura popula
 r con la intuición\, manifestando personajes fantásticos de realidades a
 lternas. 
SUMMARY:Bubi Canal en el escaparate de La Caverna de la Luz
END:VEVENT
BEGIN:VEVENT
DTSTAMP:20260422T005950Z
UID:event-2584-2022-08-20-2022-08-20
DTSTART;VALUE=DATE:20220820
DTEND;VALUE=DATE:20220820
DESCRIPTION:El trabajo de Bubi Canal combina elementos de la cultura popula
 r con la intuición\, manifestando personajes fantásticos de realidades a
 lternas. 
SUMMARY:Bubi Canal en el escaparate de La Caverna de la Luz
END:VEVENT
BEGIN:VEVENT
DTSTAMP:20260422T005950Z
UID:event-2584-2022-08-21-2022-08-21
DTSTART;VALUE=DATE:20220821
DTEND;VALUE=DATE:20220821
DESCRIPTION:El trabajo de Bubi Canal combina elementos de la cultura popula
 r con la intuición\, manifestando personajes fantásticos de realidades a
 lternas. 
SUMMARY:Bubi Canal en el escaparate de La Caverna de la Luz
END:VEVENT
BEGIN:VEVENT
DTSTAMP:20260422T005950Z
UID:event-2584-2022-08-22-2022-08-22
DTSTART;VALUE=DATE:20220822
DTEND;VALUE=DATE:20220822
DESCRIPTION:El trabajo de Bubi Canal combina elementos de la cultura popula
 r con la intuición\, manifestando personajes fantásticos de realidades a
 lternas. 
SUMMARY:Bubi Canal en el escaparate de La Caverna de la Luz
END:VEVENT
BEGIN:VEVENT
DTSTAMP:20260422T005950Z
UID:event-2584-2022-08-23-2022-08-23
DTSTART;VALUE=DATE:20220823
DTEND;VALUE=DATE:20220823
DESCRIPTION:El trabajo de Bubi Canal combina elementos de la cultura popula
 r con la intuición\, manifestando personajes fantásticos de realidades a
 lternas. 
SUMMARY:Bubi Canal en el escaparate de La Caverna de la Luz
END:VEVENT
BEGIN:VEVENT
DTSTAMP:20260422T005950Z
UID:event-2584-2022-08-24-2022-08-24
DTSTART;VALUE=DATE:20220824
DTEND;VALUE=DATE:20220824
DESCRIPTION:El trabajo de Bubi Canal combina elementos de la cultura popula
 r con la intuición\, manifestando personajes fantásticos de realidades a
 lternas. 
SUMMARY:Bubi Canal en el escaparate de La Caverna de la Luz
END:VEVENT
BEGIN:VEVENT
DTSTAMP:20260422T005950Z
UID:event-2584-2022-08-25-2022-08-25
DTSTART;VALUE=DATE:20220825
DTEND;VALUE=DATE:20220825
DESCRIPTION:El trabajo de Bubi Canal combina elementos de la cultura popula
 r con la intuición\, manifestando personajes fantásticos de realidades a
 lternas. 
SUMMARY:Bubi Canal en el escaparate de La Caverna de la Luz
END:VEVENT
BEGIN:VEVENT
DTSTAMP:20260422T005950Z
UID:event-2584-2022-08-26-2022-08-26
DTSTART;VALUE=DATE:20220826
DTEND;VALUE=DATE:20220826
DESCRIPTION:El trabajo de Bubi Canal combina elementos de la cultura popula
 r con la intuición\, manifestando personajes fantásticos de realidades a
 lternas. 
SUMMARY:Bubi Canal en el escaparate de La Caverna de la Luz
END:VEVENT
BEGIN:VEVENT
DTSTAMP:20260422T005950Z
UID:event-2584-2022-08-27-2022-08-27
DTSTART;VALUE=DATE:20220827
DTEND;VALUE=DATE:20220827
DESCRIPTION:El trabajo de Bubi Canal combina elementos de la cultura popula
 r con la intuición\, manifestando personajes fantásticos de realidades a
 lternas. 
SUMMARY:Bubi Canal en el escaparate de La Caverna de la Luz
END:VEVENT
BEGIN:VEVENT
DTSTAMP:20260422T005950Z
UID:event-2584-2022-08-28-2022-08-28
DTSTART;VALUE=DATE:20220828
DTEND;VALUE=DATE:20220828
DESCRIPTION:El trabajo de Bubi Canal combina elementos de la cultura popula
 r con la intuición\, manifestando personajes fantásticos de realidades a
 lternas. 
SUMMARY:Bubi Canal en el escaparate de La Caverna de la Luz
END:VEVENT
BEGIN:VEVENT
DTSTAMP:20260422T005950Z
UID:event-2584-2022-08-29-2022-08-29
DTSTART;VALUE=DATE:20220829
DTEND;VALUE=DATE:20220829
DESCRIPTION:El trabajo de Bubi Canal combina elementos de la cultura popula
 r con la intuición\, manifestando personajes fantásticos de realidades a
 lternas. 
SUMMARY:Bubi Canal en el escaparate de La Caverna de la Luz
END:VEVENT
BEGIN:VEVENT
DTSTAMP:20260422T005950Z
UID:event-2584-2022-08-30-2022-08-30
DTSTART;VALUE=DATE:20220830
DTEND;VALUE=DATE:20220830
DESCRIPTION:El trabajo de Bubi Canal combina elementos de la cultura popula
 r con la intuición\, manifestando personajes fantásticos de realidades a
 lternas. 
SUMMARY:Bubi Canal en el escaparate de La Caverna de la Luz
END:VEVENT
BEGIN:VEVENT
DTSTAMP:20260422T005950Z
UID:event-2584-2022-08-31-2022-08-31
DTSTART;VALUE=DATE:20220831
DTEND;VALUE=DATE:20220831
DESCRIPTION:El trabajo de Bubi Canal combina elementos de la cultura popula
 r con la intuición\, manifestando personajes fantásticos de realidades a
 lternas. 
SUMMARY:Bubi Canal en el escaparate de La Caverna de la Luz
END:VEVENT
END:VCALENDAR
