BEGIN:VCALENDAR
VERSION:2.0
PRODID:icalendar-ruby
CALSCALE:GREGORIAN
METHOD:PUBLISH
BEGIN:VEVENT
DTSTAMP:20260425T204549Z
UID:event-2719-2022-09-07T18:00:00+02:00-2022-09-07T21:00:00+02:00
DTSTART;TZID=Europe/Madrid:20220907T180000
DTEND;TZID=Europe/Madrid:20220907T210000
DESCRIPTION:La serie Dances with Wolves de Antonio Aragón Renuncio se ha r
 ealizado durante el último año de pandemia\, siendo el primer trabajo de
 l fotógrafo sobre Cantabria en los últimos 25 años. 
SUMMARY:Antonio Aragón Renuncio. Dances with Wolves / Una nueva guerra civ
 il en las montañas de la locura
END:VEVENT
BEGIN:VEVENT
DTSTAMP:20260425T204549Z
UID:event-2719-2022-09-08T18:00:00+02:00-2022-09-08T21:00:00+02:00
DTSTART;TZID=Europe/Madrid:20220908T180000
DTEND;TZID=Europe/Madrid:20220908T210000
DESCRIPTION:La serie Dances with Wolves de Antonio Aragón Renuncio se ha r
 ealizado durante el último año de pandemia\, siendo el primer trabajo de
 l fotógrafo sobre Cantabria en los últimos 25 años. 
SUMMARY:Antonio Aragón Renuncio. Dances with Wolves / Una nueva guerra civ
 il en las montañas de la locura
END:VEVENT
BEGIN:VEVENT
DTSTAMP:20260425T204549Z
UID:event-2719-2022-09-09T18:00:00+02:00-2022-09-09T21:00:00+02:00
DTSTART;TZID=Europe/Madrid:20220909T180000
DTEND;TZID=Europe/Madrid:20220909T210000
DESCRIPTION:La serie Dances with Wolves de Antonio Aragón Renuncio se ha r
 ealizado durante el último año de pandemia\, siendo el primer trabajo de
 l fotógrafo sobre Cantabria en los últimos 25 años. 
SUMMARY:Antonio Aragón Renuncio. Dances with Wolves / Una nueva guerra civ
 il en las montañas de la locura
END:VEVENT
BEGIN:VEVENT
DTSTAMP:20260425T204549Z
UID:event-2719-2022-09-10T18:00:00+02:00-2022-09-10T21:00:00+02:00
DTSTART;TZID=Europe/Madrid:20220910T180000
DTEND;TZID=Europe/Madrid:20220910T210000
DESCRIPTION:La serie Dances with Wolves de Antonio Aragón Renuncio se ha r
 ealizado durante el último año de pandemia\, siendo el primer trabajo de
 l fotógrafo sobre Cantabria en los últimos 25 años. 
SUMMARY:Antonio Aragón Renuncio. Dances with Wolves / Una nueva guerra civ
 il en las montañas de la locura
END:VEVENT
BEGIN:VEVENT
DTSTAMP:20260425T204549Z
UID:event-2719-2022-09-11T18:00:00+02:00-2022-09-11T21:00:00+02:00
DTSTART;TZID=Europe/Madrid:20220911T180000
DTEND;TZID=Europe/Madrid:20220911T210000
DESCRIPTION:La serie Dances with Wolves de Antonio Aragón Renuncio se ha r
 ealizado durante el último año de pandemia\, siendo el primer trabajo de
 l fotógrafo sobre Cantabria en los últimos 25 años. 
SUMMARY:Antonio Aragón Renuncio. Dances with Wolves / Una nueva guerra civ
 il en las montañas de la locura
END:VEVENT
BEGIN:VEVENT
DTSTAMP:20260425T204549Z
UID:event-2719-2022-09-12T18:00:00+02:00-2022-09-12T21:00:00+02:00
DTSTART;TZID=Europe/Madrid:20220912T180000
DTEND;TZID=Europe/Madrid:20220912T210000
DESCRIPTION:La serie Dances with Wolves de Antonio Aragón Renuncio se ha r
 ealizado durante el último año de pandemia\, siendo el primer trabajo de
 l fotógrafo sobre Cantabria en los últimos 25 años. 
SUMMARY:Antonio Aragón Renuncio. Dances with Wolves / Una nueva guerra civ
 il en las montañas de la locura
END:VEVENT
BEGIN:VEVENT
DTSTAMP:20260425T204549Z
UID:event-2719-2022-09-13T18:00:00+02:00-2022-09-13T21:00:00+02:00
DTSTART;TZID=Europe/Madrid:20220913T180000
DTEND;TZID=Europe/Madrid:20220913T210000
DESCRIPTION:La serie Dances with Wolves de Antonio Aragón Renuncio se ha r
 ealizado durante el último año de pandemia\, siendo el primer trabajo de
 l fotógrafo sobre Cantabria en los últimos 25 años. 
SUMMARY:Antonio Aragón Renuncio. Dances with Wolves / Una nueva guerra civ
 il en las montañas de la locura
END:VEVENT
BEGIN:VEVENT
DTSTAMP:20260425T204549Z
UID:event-2719-2022-09-14T18:00:00+02:00-2022-09-14T21:00:00+02:00
DTSTART;TZID=Europe/Madrid:20220914T180000
DTEND;TZID=Europe/Madrid:20220914T210000
DESCRIPTION:La serie Dances with Wolves de Antonio Aragón Renuncio se ha r
 ealizado durante el último año de pandemia\, siendo el primer trabajo de
 l fotógrafo sobre Cantabria en los últimos 25 años. 
SUMMARY:Antonio Aragón Renuncio. Dances with Wolves / Una nueva guerra civ
 il en las montañas de la locura
END:VEVENT
BEGIN:VEVENT
DTSTAMP:20260425T204549Z
UID:event-2719-2022-09-15T18:00:00+02:00-2022-09-15T21:00:00+02:00
DTSTART;TZID=Europe/Madrid:20220915T180000
DTEND;TZID=Europe/Madrid:20220915T210000
DESCRIPTION:La serie Dances with Wolves de Antonio Aragón Renuncio se ha r
 ealizado durante el último año de pandemia\, siendo el primer trabajo de
 l fotógrafo sobre Cantabria en los últimos 25 años. 
SUMMARY:Antonio Aragón Renuncio. Dances with Wolves / Una nueva guerra civ
 il en las montañas de la locura
END:VEVENT
BEGIN:VEVENT
DTSTAMP:20260425T204549Z
UID:event-2719-2022-09-16T18:00:00+02:00-2022-09-16T21:00:00+02:00
DTSTART;TZID=Europe/Madrid:20220916T180000
DTEND;TZID=Europe/Madrid:20220916T210000
DESCRIPTION:La serie Dances with Wolves de Antonio Aragón Renuncio se ha r
 ealizado durante el último año de pandemia\, siendo el primer trabajo de
 l fotógrafo sobre Cantabria en los últimos 25 años. 
SUMMARY:Antonio Aragón Renuncio. Dances with Wolves / Una nueva guerra civ
 il en las montañas de la locura
END:VEVENT
BEGIN:VEVENT
DTSTAMP:20260425T204549Z
UID:event-2719-2022-09-17T18:00:00+02:00-2022-09-17T21:00:00+02:00
DTSTART;TZID=Europe/Madrid:20220917T180000
DTEND;TZID=Europe/Madrid:20220917T210000
DESCRIPTION:La serie Dances with Wolves de Antonio Aragón Renuncio se ha r
 ealizado durante el último año de pandemia\, siendo el primer trabajo de
 l fotógrafo sobre Cantabria en los últimos 25 años. 
SUMMARY:Antonio Aragón Renuncio. Dances with Wolves / Una nueva guerra civ
 il en las montañas de la locura
END:VEVENT
BEGIN:VEVENT
DTSTAMP:20260425T204549Z
UID:event-2719-2022-09-18T18:00:00+02:00-2022-09-18T21:00:00+02:00
DTSTART;TZID=Europe/Madrid:20220918T180000
DTEND;TZID=Europe/Madrid:20220918T210000
DESCRIPTION:La serie Dances with Wolves de Antonio Aragón Renuncio se ha r
 ealizado durante el último año de pandemia\, siendo el primer trabajo de
 l fotógrafo sobre Cantabria en los últimos 25 años. 
SUMMARY:Antonio Aragón Renuncio. Dances with Wolves / Una nueva guerra civ
 il en las montañas de la locura
END:VEVENT
BEGIN:VEVENT
DTSTAMP:20260425T204549Z
UID:event-2719-2022-09-19T18:00:00+02:00-2022-09-19T21:00:00+02:00
DTSTART;TZID=Europe/Madrid:20220919T180000
DTEND;TZID=Europe/Madrid:20220919T210000
DESCRIPTION:La serie Dances with Wolves de Antonio Aragón Renuncio se ha r
 ealizado durante el último año de pandemia\, siendo el primer trabajo de
 l fotógrafo sobre Cantabria en los últimos 25 años. 
SUMMARY:Antonio Aragón Renuncio. Dances with Wolves / Una nueva guerra civ
 il en las montañas de la locura
END:VEVENT
BEGIN:VEVENT
DTSTAMP:20260425T204549Z
UID:event-2719-2022-09-20T18:00:00+02:00-2022-09-20T21:00:00+02:00
DTSTART;TZID=Europe/Madrid:20220920T180000
DTEND;TZID=Europe/Madrid:20220920T210000
DESCRIPTION:La serie Dances with Wolves de Antonio Aragón Renuncio se ha r
 ealizado durante el último año de pandemia\, siendo el primer trabajo de
 l fotógrafo sobre Cantabria en los últimos 25 años. 
SUMMARY:Antonio Aragón Renuncio. Dances with Wolves / Una nueva guerra civ
 il en las montañas de la locura
END:VEVENT
BEGIN:VEVENT
DTSTAMP:20260425T204549Z
UID:event-2719-2022-09-21T18:00:00+02:00-2022-09-21T21:00:00+02:00
DTSTART;TZID=Europe/Madrid:20220921T180000
DTEND;TZID=Europe/Madrid:20220921T210000
DESCRIPTION:La serie Dances with Wolves de Antonio Aragón Renuncio se ha r
 ealizado durante el último año de pandemia\, siendo el primer trabajo de
 l fotógrafo sobre Cantabria en los últimos 25 años. 
SUMMARY:Antonio Aragón Renuncio. Dances with Wolves / Una nueva guerra civ
 il en las montañas de la locura
END:VEVENT
BEGIN:VEVENT
DTSTAMP:20260425T204549Z
UID:event-2719-2022-09-22T18:00:00+02:00-2022-09-22T21:00:00+02:00
DTSTART;TZID=Europe/Madrid:20220922T180000
DTEND;TZID=Europe/Madrid:20220922T210000
DESCRIPTION:La serie Dances with Wolves de Antonio Aragón Renuncio se ha r
 ealizado durante el último año de pandemia\, siendo el primer trabajo de
 l fotógrafo sobre Cantabria en los últimos 25 años. 
SUMMARY:Antonio Aragón Renuncio. Dances with Wolves / Una nueva guerra civ
 il en las montañas de la locura
END:VEVENT
BEGIN:VEVENT
DTSTAMP:20260425T204549Z
UID:event-2719-2022-09-23T18:00:00+02:00-2022-09-23T21:00:00+02:00
DTSTART;TZID=Europe/Madrid:20220923T180000
DTEND;TZID=Europe/Madrid:20220923T210000
DESCRIPTION:La serie Dances with Wolves de Antonio Aragón Renuncio se ha r
 ealizado durante el último año de pandemia\, siendo el primer trabajo de
 l fotógrafo sobre Cantabria en los últimos 25 años. 
SUMMARY:Antonio Aragón Renuncio. Dances with Wolves / Una nueva guerra civ
 il en las montañas de la locura
END:VEVENT
BEGIN:VEVENT
DTSTAMP:20260425T204549Z
UID:event-2719-2022-09-24T18:00:00+02:00-2022-09-24T21:00:00+02:00
DTSTART;TZID=Europe/Madrid:20220924T180000
DTEND;TZID=Europe/Madrid:20220924T210000
DESCRIPTION:La serie Dances with Wolves de Antonio Aragón Renuncio se ha r
 ealizado durante el último año de pandemia\, siendo el primer trabajo de
 l fotógrafo sobre Cantabria en los últimos 25 años. 
SUMMARY:Antonio Aragón Renuncio. Dances with Wolves / Una nueva guerra civ
 il en las montañas de la locura
END:VEVENT
BEGIN:VEVENT
DTSTAMP:20260425T204549Z
UID:event-2719-2022-09-25T18:00:00+02:00-2022-09-25T21:00:00+02:00
DTSTART;TZID=Europe/Madrid:20220925T180000
DTEND;TZID=Europe/Madrid:20220925T210000
DESCRIPTION:La serie Dances with Wolves de Antonio Aragón Renuncio se ha r
 ealizado durante el último año de pandemia\, siendo el primer trabajo de
 l fotógrafo sobre Cantabria en los últimos 25 años. 
SUMMARY:Antonio Aragón Renuncio. Dances with Wolves / Una nueva guerra civ
 il en las montañas de la locura
END:VEVENT
BEGIN:VEVENT
DTSTAMP:20260425T204549Z
UID:event-2719-2022-09-26T18:00:00+02:00-2022-09-26T21:00:00+02:00
DTSTART;TZID=Europe/Madrid:20220926T180000
DTEND;TZID=Europe/Madrid:20220926T210000
DESCRIPTION:La serie Dances with Wolves de Antonio Aragón Renuncio se ha r
 ealizado durante el último año de pandemia\, siendo el primer trabajo de
 l fotógrafo sobre Cantabria en los últimos 25 años. 
SUMMARY:Antonio Aragón Renuncio. Dances with Wolves / Una nueva guerra civ
 il en las montañas de la locura
END:VEVENT
BEGIN:VEVENT
DTSTAMP:20260425T204549Z
UID:event-2719-2022-09-27T18:00:00+02:00-2022-09-27T21:00:00+02:00
DTSTART;TZID=Europe/Madrid:20220927T180000
DTEND;TZID=Europe/Madrid:20220927T210000
DESCRIPTION:La serie Dances with Wolves de Antonio Aragón Renuncio se ha r
 ealizado durante el último año de pandemia\, siendo el primer trabajo de
 l fotógrafo sobre Cantabria en los últimos 25 años. 
SUMMARY:Antonio Aragón Renuncio. Dances with Wolves / Una nueva guerra civ
 il en las montañas de la locura
END:VEVENT
BEGIN:VEVENT
DTSTAMP:20260425T204549Z
UID:event-2719-2022-09-28T18:00:00+02:00-2022-09-28T21:00:00+02:00
DTSTART;TZID=Europe/Madrid:20220928T180000
DTEND;TZID=Europe/Madrid:20220928T210000
DESCRIPTION:La serie Dances with Wolves de Antonio Aragón Renuncio se ha r
 ealizado durante el último año de pandemia\, siendo el primer trabajo de
 l fotógrafo sobre Cantabria en los últimos 25 años. 
SUMMARY:Antonio Aragón Renuncio. Dances with Wolves / Una nueva guerra civ
 il en las montañas de la locura
END:VEVENT
BEGIN:VEVENT
DTSTAMP:20260425T204549Z
UID:event-2719-2022-09-29T18:00:00+02:00-2022-09-29T21:00:00+02:00
DTSTART;TZID=Europe/Madrid:20220929T180000
DTEND;TZID=Europe/Madrid:20220929T210000
DESCRIPTION:La serie Dances with Wolves de Antonio Aragón Renuncio se ha r
 ealizado durante el último año de pandemia\, siendo el primer trabajo de
 l fotógrafo sobre Cantabria en los últimos 25 años. 
SUMMARY:Antonio Aragón Renuncio. Dances with Wolves / Una nueva guerra civ
 il en las montañas de la locura
END:VEVENT
BEGIN:VEVENT
DTSTAMP:20260425T204549Z
UID:event-2719-2022-09-30T18:00:00+02:00-2022-09-30T21:00:00+02:00
DTSTART;TZID=Europe/Madrid:20220930T180000
DTEND;TZID=Europe/Madrid:20220930T210000
DESCRIPTION:La serie Dances with Wolves de Antonio Aragón Renuncio se ha r
 ealizado durante el último año de pandemia\, siendo el primer trabajo de
 l fotógrafo sobre Cantabria en los últimos 25 años. 
SUMMARY:Antonio Aragón Renuncio. Dances with Wolves / Una nueva guerra civ
 il en las montañas de la locura
END:VEVENT
BEGIN:VEVENT
DTSTAMP:20260425T204549Z
UID:event-2719-2022-10-01T18:00:00+02:00-2022-10-01T21:00:00+02:00
DTSTART;TZID=Europe/Madrid:20221001T180000
DTEND;TZID=Europe/Madrid:20221001T210000
DESCRIPTION:La serie Dances with Wolves de Antonio Aragón Renuncio se ha r
 ealizado durante el último año de pandemia\, siendo el primer trabajo de
 l fotógrafo sobre Cantabria en los últimos 25 años. 
SUMMARY:Antonio Aragón Renuncio. Dances with Wolves / Una nueva guerra civ
 il en las montañas de la locura
END:VEVENT
BEGIN:VEVENT
DTSTAMP:20260425T204549Z
UID:event-2719-2022-10-02T18:00:00+02:00-2022-10-02T21:00:00+02:00
DTSTART;TZID=Europe/Madrid:20221002T180000
DTEND;TZID=Europe/Madrid:20221002T210000
DESCRIPTION:La serie Dances with Wolves de Antonio Aragón Renuncio se ha r
 ealizado durante el último año de pandemia\, siendo el primer trabajo de
 l fotógrafo sobre Cantabria en los últimos 25 años. 
SUMMARY:Antonio Aragón Renuncio. Dances with Wolves / Una nueva guerra civ
 il en las montañas de la locura
END:VEVENT
BEGIN:VEVENT
DTSTAMP:20260425T204549Z
UID:event-2719-2022-10-03T18:00:00+02:00-2022-10-03T21:00:00+02:00
DTSTART;TZID=Europe/Madrid:20221003T180000
DTEND;TZID=Europe/Madrid:20221003T210000
DESCRIPTION:La serie Dances with Wolves de Antonio Aragón Renuncio se ha r
 ealizado durante el último año de pandemia\, siendo el primer trabajo de
 l fotógrafo sobre Cantabria en los últimos 25 años. 
SUMMARY:Antonio Aragón Renuncio. Dances with Wolves / Una nueva guerra civ
 il en las montañas de la locura
END:VEVENT
BEGIN:VEVENT
DTSTAMP:20260425T204549Z
UID:event-2719-2022-10-04T18:00:00+02:00-2022-10-04T21:00:00+02:00
DTSTART;TZID=Europe/Madrid:20221004T180000
DTEND;TZID=Europe/Madrid:20221004T210000
DESCRIPTION:La serie Dances with Wolves de Antonio Aragón Renuncio se ha r
 ealizado durante el último año de pandemia\, siendo el primer trabajo de
 l fotógrafo sobre Cantabria en los últimos 25 años. 
SUMMARY:Antonio Aragón Renuncio. Dances with Wolves / Una nueva guerra civ
 il en las montañas de la locura
END:VEVENT
BEGIN:VEVENT
DTSTAMP:20260425T204549Z
UID:event-2719-2022-10-05T18:00:00+02:00-2022-10-05T21:00:00+02:00
DTSTART;TZID=Europe/Madrid:20221005T180000
DTEND;TZID=Europe/Madrid:20221005T210000
DESCRIPTION:La serie Dances with Wolves de Antonio Aragón Renuncio se ha r
 ealizado durante el último año de pandemia\, siendo el primer trabajo de
 l fotógrafo sobre Cantabria en los últimos 25 años. 
SUMMARY:Antonio Aragón Renuncio. Dances with Wolves / Una nueva guerra civ
 il en las montañas de la locura
END:VEVENT
BEGIN:VEVENT
DTSTAMP:20260425T204549Z
UID:event-2719-2022-10-06T18:00:00+02:00-2022-10-06T21:00:00+02:00
DTSTART;TZID=Europe/Madrid:20221006T180000
DTEND;TZID=Europe/Madrid:20221006T210000
DESCRIPTION:La serie Dances with Wolves de Antonio Aragón Renuncio se ha r
 ealizado durante el último año de pandemia\, siendo el primer trabajo de
 l fotógrafo sobre Cantabria en los últimos 25 años. 
SUMMARY:Antonio Aragón Renuncio. Dances with Wolves / Una nueva guerra civ
 il en las montañas de la locura
END:VEVENT
BEGIN:VEVENT
DTSTAMP:20260425T204549Z
UID:event-2719-2022-10-07T18:00:00+02:00-2022-10-07T21:00:00+02:00
DTSTART;TZID=Europe/Madrid:20221007T180000
DTEND;TZID=Europe/Madrid:20221007T210000
DESCRIPTION:La serie Dances with Wolves de Antonio Aragón Renuncio se ha r
 ealizado durante el último año de pandemia\, siendo el primer trabajo de
 l fotógrafo sobre Cantabria en los últimos 25 años. 
SUMMARY:Antonio Aragón Renuncio. Dances with Wolves / Una nueva guerra civ
 il en las montañas de la locura
END:VEVENT
BEGIN:VEVENT
DTSTAMP:20260425T204549Z
UID:event-2719-2022-10-08T18:00:00+02:00-2022-10-08T21:00:00+02:00
DTSTART;TZID=Europe/Madrid:20221008T180000
DTEND;TZID=Europe/Madrid:20221008T210000
DESCRIPTION:La serie Dances with Wolves de Antonio Aragón Renuncio se ha r
 ealizado durante el último año de pandemia\, siendo el primer trabajo de
 l fotógrafo sobre Cantabria en los últimos 25 años. 
SUMMARY:Antonio Aragón Renuncio. Dances with Wolves / Una nueva guerra civ
 il en las montañas de la locura
END:VEVENT
BEGIN:VEVENT
DTSTAMP:20260425T204549Z
UID:event-2719-2022-10-09T18:00:00+02:00-2022-10-09T21:00:00+02:00
DTSTART;TZID=Europe/Madrid:20221009T180000
DTEND;TZID=Europe/Madrid:20221009T210000
DESCRIPTION:La serie Dances with Wolves de Antonio Aragón Renuncio se ha r
 ealizado durante el último año de pandemia\, siendo el primer trabajo de
 l fotógrafo sobre Cantabria en los últimos 25 años. 
SUMMARY:Antonio Aragón Renuncio. Dances with Wolves / Una nueva guerra civ
 il en las montañas de la locura
END:VEVENT
BEGIN:VEVENT
DTSTAMP:20260425T204549Z
UID:event-2719-2022-10-10T18:00:00+02:00-2022-10-10T21:00:00+02:00
DTSTART;TZID=Europe/Madrid:20221010T180000
DTEND;TZID=Europe/Madrid:20221010T210000
DESCRIPTION:La serie Dances with Wolves de Antonio Aragón Renuncio se ha r
 ealizado durante el último año de pandemia\, siendo el primer trabajo de
 l fotógrafo sobre Cantabria en los últimos 25 años. 
SUMMARY:Antonio Aragón Renuncio. Dances with Wolves / Una nueva guerra civ
 il en las montañas de la locura
END:VEVENT
BEGIN:VEVENT
DTSTAMP:20260425T204549Z
UID:event-2719-2022-10-11T18:00:00+02:00-2022-10-11T21:00:00+02:00
DTSTART;TZID=Europe/Madrid:20221011T180000
DTEND;TZID=Europe/Madrid:20221011T210000
DESCRIPTION:La serie Dances with Wolves de Antonio Aragón Renuncio se ha r
 ealizado durante el último año de pandemia\, siendo el primer trabajo de
 l fotógrafo sobre Cantabria en los últimos 25 años. 
SUMMARY:Antonio Aragón Renuncio. Dances with Wolves / Una nueva guerra civ
 il en las montañas de la locura
END:VEVENT
END:VCALENDAR
