BEGIN:VCALENDAR
VERSION:2.0
PRODID:icalendar-ruby
CALSCALE:GREGORIAN
METHOD:PUBLISH
BEGIN:VEVENT
DTSTAMP:20260421T234757Z
UID:event-2743-2022-08-19T16:20:00+02:00-none
DTSTART;TZID=Europe/Madrid:20220819T162000
DESCRIPTION:Johan es un excéntrico e inadaptado habitante de una pequeña 
 aldea noruega. Huérfano desde niño y aficionado a los explosivos\, Johan
  intenta conquistar el corazón de su vecina Solvor\, a quien voló por lo
 s aires accidentalmente de pequeños. 
SUMMARY:"Todo el mundo odia a Johan"\, de Hallvar Witzø  (V.O.S)
END:VEVENT
BEGIN:VEVENT
DTSTAMP:20260421T234757Z
UID:event-2743-2022-08-19T20:30:00+02:00-none
DTSTART;TZID=Europe/Madrid:20220819T203000
DESCRIPTION:Johan es un excéntrico e inadaptado habitante de una pequeña 
 aldea noruega. Huérfano desde niño y aficionado a los explosivos\, Johan
  intenta conquistar el corazón de su vecina Solvor\, a quien voló por lo
 s aires accidentalmente de pequeños. 
SUMMARY:"Todo el mundo odia a Johan"\, de Hallvar Witzø  (V.O.S)
END:VEVENT
BEGIN:VEVENT
DTSTAMP:20260421T234757Z
UID:event-2743-2022-08-19T22:40:00+02:00-none
DTSTART;TZID=Europe/Madrid:20220819T224000
DESCRIPTION:Johan es un excéntrico e inadaptado habitante de una pequeña 
 aldea noruega. Huérfano desde niño y aficionado a los explosivos\, Johan
  intenta conquistar el corazón de su vecina Solvor\, a quien voló por lo
 s aires accidentalmente de pequeños. 
SUMMARY:"Todo el mundo odia a Johan"\, de Hallvar Witzø  (V.O.S)
END:VEVENT
BEGIN:VEVENT
DTSTAMP:20260421T234757Z
UID:event-2743-2022-08-20T16:20:00+02:00-none
DTSTART;TZID=Europe/Madrid:20220820T162000
DESCRIPTION:Johan es un excéntrico e inadaptado habitante de una pequeña 
 aldea noruega. Huérfano desde niño y aficionado a los explosivos\, Johan
  intenta conquistar el corazón de su vecina Solvor\, a quien voló por lo
 s aires accidentalmente de pequeños. 
SUMMARY:"Todo el mundo odia a Johan"\, de Hallvar Witzø  (V.O.S)
END:VEVENT
BEGIN:VEVENT
DTSTAMP:20260421T234757Z
UID:event-2743-2022-08-20T20:30:00+02:00-none
DTSTART;TZID=Europe/Madrid:20220820T203000
DESCRIPTION:Johan es un excéntrico e inadaptado habitante de una pequeña 
 aldea noruega. Huérfano desde niño y aficionado a los explosivos\, Johan
  intenta conquistar el corazón de su vecina Solvor\, a quien voló por lo
 s aires accidentalmente de pequeños. 
SUMMARY:"Todo el mundo odia a Johan"\, de Hallvar Witzø  (V.O.S)
END:VEVENT
BEGIN:VEVENT
DTSTAMP:20260421T234757Z
UID:event-2743-2022-08-20T22:40:00+02:00-none
DTSTART;TZID=Europe/Madrid:20220820T224000
DESCRIPTION:Johan es un excéntrico e inadaptado habitante de una pequeña 
 aldea noruega. Huérfano desde niño y aficionado a los explosivos\, Johan
  intenta conquistar el corazón de su vecina Solvor\, a quien voló por lo
 s aires accidentalmente de pequeños. 
SUMMARY:"Todo el mundo odia a Johan"\, de Hallvar Witzø  (V.O.S)
END:VEVENT
BEGIN:VEVENT
DTSTAMP:20260421T234757Z
UID:event-2743-2022-08-21T16:20:00+02:00-none
DTSTART;TZID=Europe/Madrid:20220821T162000
DESCRIPTION:Johan es un excéntrico e inadaptado habitante de una pequeña 
 aldea noruega. Huérfano desde niño y aficionado a los explosivos\, Johan
  intenta conquistar el corazón de su vecina Solvor\, a quien voló por lo
 s aires accidentalmente de pequeños. 
SUMMARY:"Todo el mundo odia a Johan"\, de Hallvar Witzø  (V.O.S)
END:VEVENT
BEGIN:VEVENT
DTSTAMP:20260421T234757Z
UID:event-2743-2022-08-21T20:30:00+02:00-none
DTSTART;TZID=Europe/Madrid:20220821T203000
DESCRIPTION:Johan es un excéntrico e inadaptado habitante de una pequeña 
 aldea noruega. Huérfano desde niño y aficionado a los explosivos\, Johan
  intenta conquistar el corazón de su vecina Solvor\, a quien voló por lo
 s aires accidentalmente de pequeños. 
SUMMARY:"Todo el mundo odia a Johan"\, de Hallvar Witzø  (V.O.S)
END:VEVENT
BEGIN:VEVENT
DTSTAMP:20260421T234757Z
UID:event-2743-2022-08-21T22:40:00+02:00-none
DTSTART;TZID=Europe/Madrid:20220821T224000
DESCRIPTION:Johan es un excéntrico e inadaptado habitante de una pequeña 
 aldea noruega. Huérfano desde niño y aficionado a los explosivos\, Johan
  intenta conquistar el corazón de su vecina Solvor\, a quien voló por lo
 s aires accidentalmente de pequeños. 
SUMMARY:"Todo el mundo odia a Johan"\, de Hallvar Witzø  (V.O.S)
END:VEVENT
BEGIN:VEVENT
DTSTAMP:20260421T234757Z
UID:event-2743-2022-08-22T16:20:00+02:00-none
DTSTART;TZID=Europe/Madrid:20220822T162000
DESCRIPTION:Johan es un excéntrico e inadaptado habitante de una pequeña 
 aldea noruega. Huérfano desde niño y aficionado a los explosivos\, Johan
  intenta conquistar el corazón de su vecina Solvor\, a quien voló por lo
 s aires accidentalmente de pequeños. 
SUMMARY:"Todo el mundo odia a Johan"\, de Hallvar Witzø  (V.O.S)
END:VEVENT
BEGIN:VEVENT
DTSTAMP:20260421T234757Z
UID:event-2743-2022-08-22T20:30:00+02:00-none
DTSTART;TZID=Europe/Madrid:20220822T203000
DESCRIPTION:Johan es un excéntrico e inadaptado habitante de una pequeña 
 aldea noruega. Huérfano desde niño y aficionado a los explosivos\, Johan
  intenta conquistar el corazón de su vecina Solvor\, a quien voló por lo
 s aires accidentalmente de pequeños. 
SUMMARY:"Todo el mundo odia a Johan"\, de Hallvar Witzø  (V.O.S)
END:VEVENT
BEGIN:VEVENT
DTSTAMP:20260421T234757Z
UID:event-2743-2022-08-22T22:40:00+02:00-none
DTSTART;TZID=Europe/Madrid:20220822T224000
DESCRIPTION:Johan es un excéntrico e inadaptado habitante de una pequeña 
 aldea noruega. Huérfano desde niño y aficionado a los explosivos\, Johan
  intenta conquistar el corazón de su vecina Solvor\, a quien voló por lo
 s aires accidentalmente de pequeños. 
SUMMARY:"Todo el mundo odia a Johan"\, de Hallvar Witzø  (V.O.S)
END:VEVENT
BEGIN:VEVENT
DTSTAMP:20260421T234757Z
UID:event-2743-2022-08-23T16:20:00+02:00-none
DTSTART;TZID=Europe/Madrid:20220823T162000
DESCRIPTION:Johan es un excéntrico e inadaptado habitante de una pequeña 
 aldea noruega. Huérfano desde niño y aficionado a los explosivos\, Johan
  intenta conquistar el corazón de su vecina Solvor\, a quien voló por lo
 s aires accidentalmente de pequeños. 
SUMMARY:"Todo el mundo odia a Johan"\, de Hallvar Witzø  (V.O.S)
END:VEVENT
BEGIN:VEVENT
DTSTAMP:20260421T234757Z
UID:event-2743-2022-08-23T20:30:00+02:00-none
DTSTART;TZID=Europe/Madrid:20220823T203000
DESCRIPTION:Johan es un excéntrico e inadaptado habitante de una pequeña 
 aldea noruega. Huérfano desde niño y aficionado a los explosivos\, Johan
  intenta conquistar el corazón de su vecina Solvor\, a quien voló por lo
 s aires accidentalmente de pequeños. 
SUMMARY:"Todo el mundo odia a Johan"\, de Hallvar Witzø  (V.O.S)
END:VEVENT
BEGIN:VEVENT
DTSTAMP:20260421T234757Z
UID:event-2743-2022-08-23T22:40:00+02:00-none
DTSTART;TZID=Europe/Madrid:20220823T224000
DESCRIPTION:Johan es un excéntrico e inadaptado habitante de una pequeña 
 aldea noruega. Huérfano desde niño y aficionado a los explosivos\, Johan
  intenta conquistar el corazón de su vecina Solvor\, a quien voló por lo
 s aires accidentalmente de pequeños. 
SUMMARY:"Todo el mundo odia a Johan"\, de Hallvar Witzø  (V.O.S)
END:VEVENT
BEGIN:VEVENT
DTSTAMP:20260421T234757Z
UID:event-2743-2022-08-24T16:20:00+02:00-none
DTSTART;TZID=Europe/Madrid:20220824T162000
DESCRIPTION:Johan es un excéntrico e inadaptado habitante de una pequeña 
 aldea noruega. Huérfano desde niño y aficionado a los explosivos\, Johan
  intenta conquistar el corazón de su vecina Solvor\, a quien voló por lo
 s aires accidentalmente de pequeños. 
SUMMARY:"Todo el mundo odia a Johan"\, de Hallvar Witzø  (V.O.S)
END:VEVENT
BEGIN:VEVENT
DTSTAMP:20260421T234757Z
UID:event-2743-2022-08-24T20:30:00+02:00-none
DTSTART;TZID=Europe/Madrid:20220824T203000
DESCRIPTION:Johan es un excéntrico e inadaptado habitante de una pequeña 
 aldea noruega. Huérfano desde niño y aficionado a los explosivos\, Johan
  intenta conquistar el corazón de su vecina Solvor\, a quien voló por lo
 s aires accidentalmente de pequeños. 
SUMMARY:"Todo el mundo odia a Johan"\, de Hallvar Witzø  (V.O.S)
END:VEVENT
BEGIN:VEVENT
DTSTAMP:20260421T234757Z
UID:event-2743-2022-08-24T22:40:00+02:00-none
DTSTART;TZID=Europe/Madrid:20220824T224000
DESCRIPTION:Johan es un excéntrico e inadaptado habitante de una pequeña 
 aldea noruega. Huérfano desde niño y aficionado a los explosivos\, Johan
  intenta conquistar el corazón de su vecina Solvor\, a quien voló por lo
 s aires accidentalmente de pequeños. 
SUMMARY:"Todo el mundo odia a Johan"\, de Hallvar Witzø  (V.O.S)
END:VEVENT
BEGIN:VEVENT
DTSTAMP:20260421T234757Z
UID:event-2743-2022-08-25T16:20:00+02:00-none
DTSTART;TZID=Europe/Madrid:20220825T162000
DESCRIPTION:Johan es un excéntrico e inadaptado habitante de una pequeña 
 aldea noruega. Huérfano desde niño y aficionado a los explosivos\, Johan
  intenta conquistar el corazón de su vecina Solvor\, a quien voló por lo
 s aires accidentalmente de pequeños. 
SUMMARY:"Todo el mundo odia a Johan"\, de Hallvar Witzø  (V.O.S)
END:VEVENT
BEGIN:VEVENT
DTSTAMP:20260421T234757Z
UID:event-2743-2022-08-25T20:30:00+02:00-none
DTSTART;TZID=Europe/Madrid:20220825T203000
DESCRIPTION:Johan es un excéntrico e inadaptado habitante de una pequeña 
 aldea noruega. Huérfano desde niño y aficionado a los explosivos\, Johan
  intenta conquistar el corazón de su vecina Solvor\, a quien voló por lo
 s aires accidentalmente de pequeños. 
SUMMARY:"Todo el mundo odia a Johan"\, de Hallvar Witzø  (V.O.S)
END:VEVENT
BEGIN:VEVENT
DTSTAMP:20260421T234757Z
UID:event-2743-2022-08-25T22:40:00+02:00-none
DTSTART;TZID=Europe/Madrid:20220825T224000
DESCRIPTION:Johan es un excéntrico e inadaptado habitante de una pequeña 
 aldea noruega. Huérfano desde niño y aficionado a los explosivos\, Johan
  intenta conquistar el corazón de su vecina Solvor\, a quien voló por lo
 s aires accidentalmente de pequeños. 
SUMMARY:"Todo el mundo odia a Johan"\, de Hallvar Witzø  (V.O.S)
END:VEVENT
BEGIN:VEVENT
DTSTAMP:20260421T234757Z
UID:event-2743-2022-08-26T18:30:00+02:00-none
DTSTART;TZID=Europe/Madrid:20220826T183000
DESCRIPTION:Johan es un excéntrico e inadaptado habitante de una pequeña 
 aldea noruega. Huérfano desde niño y aficionado a los explosivos\, Johan
  intenta conquistar el corazón de su vecina Solvor\, a quien voló por lo
 s aires accidentalmente de pequeños. 
SUMMARY:"Todo el mundo odia a Johan"\, de Hallvar Witzø  (V.O.S)
END:VEVENT
BEGIN:VEVENT
DTSTAMP:20260421T234757Z
UID:event-2743-2022-08-26T22:30:00+02:00-none
DTSTART;TZID=Europe/Madrid:20220826T223000
DESCRIPTION:Johan es un excéntrico e inadaptado habitante de una pequeña 
 aldea noruega. Huérfano desde niño y aficionado a los explosivos\, Johan
  intenta conquistar el corazón de su vecina Solvor\, a quien voló por lo
 s aires accidentalmente de pequeños. 
SUMMARY:"Todo el mundo odia a Johan"\, de Hallvar Witzø  (V.O.S)
END:VEVENT
BEGIN:VEVENT
DTSTAMP:20260421T234757Z
UID:event-2743-2022-08-27T18:30:00+02:00-none
DTSTART;TZID=Europe/Madrid:20220827T183000
DESCRIPTION:Johan es un excéntrico e inadaptado habitante de una pequeña 
 aldea noruega. Huérfano desde niño y aficionado a los explosivos\, Johan
  intenta conquistar el corazón de su vecina Solvor\, a quien voló por lo
 s aires accidentalmente de pequeños. 
SUMMARY:"Todo el mundo odia a Johan"\, de Hallvar Witzø  (V.O.S)
END:VEVENT
BEGIN:VEVENT
DTSTAMP:20260421T234757Z
UID:event-2743-2022-08-27T22:30:00+02:00-none
DTSTART;TZID=Europe/Madrid:20220827T223000
DESCRIPTION:Johan es un excéntrico e inadaptado habitante de una pequeña 
 aldea noruega. Huérfano desde niño y aficionado a los explosivos\, Johan
  intenta conquistar el corazón de su vecina Solvor\, a quien voló por lo
 s aires accidentalmente de pequeños. 
SUMMARY:"Todo el mundo odia a Johan"\, de Hallvar Witzø  (V.O.S)
END:VEVENT
BEGIN:VEVENT
DTSTAMP:20260421T234757Z
UID:event-2743-2022-08-28T18:30:00+02:00-none
DTSTART;TZID=Europe/Madrid:20220828T183000
DESCRIPTION:Johan es un excéntrico e inadaptado habitante de una pequeña 
 aldea noruega. Huérfano desde niño y aficionado a los explosivos\, Johan
  intenta conquistar el corazón de su vecina Solvor\, a quien voló por lo
 s aires accidentalmente de pequeños. 
SUMMARY:"Todo el mundo odia a Johan"\, de Hallvar Witzø  (V.O.S)
END:VEVENT
BEGIN:VEVENT
DTSTAMP:20260421T234757Z
UID:event-2743-2022-08-28T22:30:00+02:00-none
DTSTART;TZID=Europe/Madrid:20220828T223000
DESCRIPTION:Johan es un excéntrico e inadaptado habitante de una pequeña 
 aldea noruega. Huérfano desde niño y aficionado a los explosivos\, Johan
  intenta conquistar el corazón de su vecina Solvor\, a quien voló por lo
 s aires accidentalmente de pequeños. 
SUMMARY:"Todo el mundo odia a Johan"\, de Hallvar Witzø  (V.O.S)
END:VEVENT
BEGIN:VEVENT
DTSTAMP:20260421T234757Z
UID:event-2743-2022-08-29T18:30:00+02:00-none
DTSTART;TZID=Europe/Madrid:20220829T183000
DESCRIPTION:Johan es un excéntrico e inadaptado habitante de una pequeña 
 aldea noruega. Huérfano desde niño y aficionado a los explosivos\, Johan
  intenta conquistar el corazón de su vecina Solvor\, a quien voló por lo
 s aires accidentalmente de pequeños. 
SUMMARY:"Todo el mundo odia a Johan"\, de Hallvar Witzø  (V.O.S)
END:VEVENT
BEGIN:VEVENT
DTSTAMP:20260421T234757Z
UID:event-2743-2022-08-29T22:30:00+02:00-none
DTSTART;TZID=Europe/Madrid:20220829T223000
DESCRIPTION:Johan es un excéntrico e inadaptado habitante de una pequeña 
 aldea noruega. Huérfano desde niño y aficionado a los explosivos\, Johan
  intenta conquistar el corazón de su vecina Solvor\, a quien voló por lo
 s aires accidentalmente de pequeños. 
SUMMARY:"Todo el mundo odia a Johan"\, de Hallvar Witzø  (V.O.S)
END:VEVENT
BEGIN:VEVENT
DTSTAMP:20260421T234757Z
UID:event-2743-2022-08-30T18:30:00+02:00-none
DTSTART;TZID=Europe/Madrid:20220830T183000
DESCRIPTION:Johan es un excéntrico e inadaptado habitante de una pequeña 
 aldea noruega. Huérfano desde niño y aficionado a los explosivos\, Johan
  intenta conquistar el corazón de su vecina Solvor\, a quien voló por lo
 s aires accidentalmente de pequeños. 
SUMMARY:"Todo el mundo odia a Johan"\, de Hallvar Witzø  (V.O.S)
END:VEVENT
BEGIN:VEVENT
DTSTAMP:20260421T234757Z
UID:event-2743-2022-08-30T22:30:00+02:00-none
DTSTART;TZID=Europe/Madrid:20220830T223000
DESCRIPTION:Johan es un excéntrico e inadaptado habitante de una pequeña 
 aldea noruega. Huérfano desde niño y aficionado a los explosivos\, Johan
  intenta conquistar el corazón de su vecina Solvor\, a quien voló por lo
 s aires accidentalmente de pequeños. 
SUMMARY:"Todo el mundo odia a Johan"\, de Hallvar Witzø  (V.O.S)
END:VEVENT
BEGIN:VEVENT
DTSTAMP:20260421T234757Z
UID:event-2743-2022-08-31T18:30:00+02:00-none
DTSTART;TZID=Europe/Madrid:20220831T183000
DESCRIPTION:Johan es un excéntrico e inadaptado habitante de una pequeña 
 aldea noruega. Huérfano desde niño y aficionado a los explosivos\, Johan
  intenta conquistar el corazón de su vecina Solvor\, a quien voló por lo
 s aires accidentalmente de pequeños. 
SUMMARY:"Todo el mundo odia a Johan"\, de Hallvar Witzø  (V.O.S)
END:VEVENT
BEGIN:VEVENT
DTSTAMP:20260421T234757Z
UID:event-2743-2022-08-31T22:30:00+02:00-none
DTSTART;TZID=Europe/Madrid:20220831T223000
DESCRIPTION:Johan es un excéntrico e inadaptado habitante de una pequeña 
 aldea noruega. Huérfano desde niño y aficionado a los explosivos\, Johan
  intenta conquistar el corazón de su vecina Solvor\, a quien voló por lo
 s aires accidentalmente de pequeños. 
SUMMARY:"Todo el mundo odia a Johan"\, de Hallvar Witzø  (V.O.S)
END:VEVENT
BEGIN:VEVENT
DTSTAMP:20260421T234757Z
UID:event-2743-2022-09-01T18:30:00+02:00-none
DTSTART;TZID=Europe/Madrid:20220901T183000
DESCRIPTION:Johan es un excéntrico e inadaptado habitante de una pequeña 
 aldea noruega. Huérfano desde niño y aficionado a los explosivos\, Johan
  intenta conquistar el corazón de su vecina Solvor\, a quien voló por lo
 s aires accidentalmente de pequeños. 
SUMMARY:"Todo el mundo odia a Johan"\, de Hallvar Witzø  (V.O.S)
END:VEVENT
BEGIN:VEVENT
DTSTAMP:20260421T234757Z
UID:event-2743-2022-09-01T22:30:00+02:00-none
DTSTART;TZID=Europe/Madrid:20220901T223000
DESCRIPTION:Johan es un excéntrico e inadaptado habitante de una pequeña 
 aldea noruega. Huérfano desde niño y aficionado a los explosivos\, Johan
  intenta conquistar el corazón de su vecina Solvor\, a quien voló por lo
 s aires accidentalmente de pequeños. 
SUMMARY:"Todo el mundo odia a Johan"\, de Hallvar Witzø  (V.O.S)
END:VEVENT
END:VCALENDAR
