BEGIN:VCALENDAR
VERSION:2.0
PRODID:icalendar-ruby
CALSCALE:GREGORIAN
METHOD:PUBLISH
BEGIN:VEVENT
DTSTAMP:20260421T214656Z
UID:event-2750-2022-08-20T21:30:00+02:00-none
DTSTART;TZID=Europe/Madrid:20220820T213000
DESCRIPTION:Jimi Can en el Bar Bolero acompañado por Buba Chan. Entrada li
 bre. 
SUMMARY:Jimi Can en el Bolero
END:VEVENT
END:VCALENDAR
