BEGIN:VCALENDAR
VERSION:2.0
PRODID:icalendar-ruby
CALSCALE:GREGORIAN
METHOD:PUBLISH
BEGIN:VEVENT
DTSTAMP:20260422T204019Z
UID:event-295-2022-02-12T17:30:00+01:00-none
DTSTART;TZID=Europe/Madrid:20220212T173000
DESCRIPTION:"Pin Pang" es un espectáculo de circo en clave de humor\, que 
 habla de la inviabilidad de nuestro nivel de vida\, del colapso al que nos
  encaminamos y que invita a vivir con menos.
SUMMARY:"Pin Pang"\, espectáculo de circo de Xabi Larrea
END:VEVENT
BEGIN:VEVENT
DTSTAMP:20260422T204019Z
UID:event-295-2022-02-13T12:30:00+01:00-none
DTSTART;TZID=Europe/Madrid:20220213T123000
DESCRIPTION:"Pin Pang" es un espectáculo de circo en clave de humor\, que 
 habla de la inviabilidad de nuestro nivel de vida\, del colapso al que nos
  encaminamos y que invita a vivir con menos.
SUMMARY:"Pin Pang"\, espectáculo de circo de Xabi Larrea
END:VEVENT
BEGIN:VEVENT
DTSTAMP:20260422T204019Z
UID:event-295-2022-02-13T17:30:00+01:00-none
DTSTART;TZID=Europe/Madrid:20220213T173000
DESCRIPTION:"Pin Pang" es un espectáculo de circo en clave de humor\, que 
 habla de la inviabilidad de nuestro nivel de vida\, del colapso al que nos
  encaminamos y que invita a vivir con menos.
SUMMARY:"Pin Pang"\, espectáculo de circo de Xabi Larrea
END:VEVENT
END:VCALENDAR
