BEGIN:VCALENDAR
VERSION:2.0
PRODID:icalendar-ruby
CALSCALE:GREGORIAN
METHOD:PUBLISH
BEGIN:VEVENT
DTSTAMP:20260425T171305Z
UID:event-3205-2022-12-11T18:00:00+01:00-none
DTSTART;TZID=Europe/Madrid:20221211T180000
DESCRIPTION:Un tributo musical de un gran clásico\, que cuenta la famosa h
 istoria de Dorothy y su perro Totó\, arrastrados por un ciclón hacia el 
 fantástico país de Oz.
SUMMARY:El mago de Oz\, un musical maravilloso
END:VEVENT
END:VCALENDAR
