BEGIN:VCALENDAR
VERSION:2.0
PRODID:icalendar-ruby
CALSCALE:GREGORIAN
METHOD:PUBLISH
BEGIN:VEVENT
DTSTAMP:20260422T204326Z
UID:event-371-2022-02-19T11:30:00+01:00-none
DTSTART;TZID=Europe/Madrid:20220219T113000
DESCRIPTION:De lo más pequeño a lo más grande es un viaje por el univers
 o conocido y parte del desconocido\, en el que se recorren las diferentes 
 líneas de investigación del Instituto de Física de Cantabria (CSIC - Un
 iversidad de Cantabria).
SUMMARY:Visita a "De lo más pequeño a lo más grande"
END:VEVENT
BEGIN:VEVENT
DTSTAMP:20260422T204326Z
UID:event-371-2022-02-19T12:30:00+01:00-none
DTSTART;TZID=Europe/Madrid:20220219T123000
DESCRIPTION:De lo más pequeño a lo más grande es un viaje por el univers
 o conocido y parte del desconocido\, en el que se recorren las diferentes 
 líneas de investigación del Instituto de Física de Cantabria (CSIC - Un
 iversidad de Cantabria).
SUMMARY:Visita a "De lo más pequeño a lo más grande"
END:VEVENT
BEGIN:VEVENT
DTSTAMP:20260422T204326Z
UID:event-371-2022-02-20T11:30:00+01:00-none
DTSTART;TZID=Europe/Madrid:20220220T113000
DESCRIPTION:De lo más pequeño a lo más grande es un viaje por el univers
 o conocido y parte del desconocido\, en el que se recorren las diferentes 
 líneas de investigación del Instituto de Física de Cantabria (CSIC - Un
 iversidad de Cantabria).
SUMMARY:Visita a "De lo más pequeño a lo más grande"
END:VEVENT
BEGIN:VEVENT
DTSTAMP:20260422T204326Z
UID:event-371-2022-02-20T12:30:00+01:00-none
DTSTART;TZID=Europe/Madrid:20220220T123000
DESCRIPTION:De lo más pequeño a lo más grande es un viaje por el univers
 o conocido y parte del desconocido\, en el que se recorren las diferentes 
 líneas de investigación del Instituto de Física de Cantabria (CSIC - Un
 iversidad de Cantabria).
SUMMARY:Visita a "De lo más pequeño a lo más grande"
END:VEVENT
END:VCALENDAR
