BEGIN:VCALENDAR
VERSION:2.0
PRODID:icalendar-ruby
CALSCALE:GREGORIAN
METHOD:PUBLISH
BEGIN:VEVENT
DTSTAMP:20260425T164121Z
UID:event-4404-2023-01-09T18:00:00+01:00-2023-01-09T20:00:00+01:00
DTSTART;TZID=Europe/Madrid:20230109T180000
DTEND;TZID=Europe/Madrid:20230109T200000
DESCRIPTION:Garanza Escuela de Artes Plásticas ofrece un curso de análisi
 s plástico de 11 interesantes obras de la Historia del Arte. El curso com
 ienza el 9 de enero y se impartirá los lunes\, de 18:00 a 20:00 horas.
SUMMARY:Curso de Composición Plástica
END:VEVENT
BEGIN:VEVENT
DTSTAMP:20260425T164121Z
UID:event-4404-2023-01-16T18:00:00+01:00-2023-01-16T20:00:00+01:00
DTSTART;TZID=Europe/Madrid:20230116T180000
DTEND;TZID=Europe/Madrid:20230116T200000
DESCRIPTION:Garanza Escuela de Artes Plásticas ofrece un curso de análisi
 s plástico de 11 interesantes obras de la Historia del Arte. El curso com
 ienza el 9 de enero y se impartirá los lunes\, de 18:00 a 20:00 horas.
SUMMARY:Curso de Composición Plástica
END:VEVENT
BEGIN:VEVENT
DTSTAMP:20260425T164121Z
UID:event-4404-2023-01-23T18:00:00+01:00-2023-01-23T20:00:00+01:00
DTSTART;TZID=Europe/Madrid:20230123T180000
DTEND;TZID=Europe/Madrid:20230123T200000
DESCRIPTION:Garanza Escuela de Artes Plásticas ofrece un curso de análisi
 s plástico de 11 interesantes obras de la Historia del Arte. El curso com
 ienza el 9 de enero y se impartirá los lunes\, de 18:00 a 20:00 horas.
SUMMARY:Curso de Composición Plástica
END:VEVENT
BEGIN:VEVENT
DTSTAMP:20260425T164121Z
UID:event-4404-2023-01-30T18:00:00+01:00-2023-01-30T20:00:00+01:00
DTSTART;TZID=Europe/Madrid:20230130T180000
DTEND;TZID=Europe/Madrid:20230130T200000
DESCRIPTION:Garanza Escuela de Artes Plásticas ofrece un curso de análisi
 s plástico de 11 interesantes obras de la Historia del Arte. El curso com
 ienza el 9 de enero y se impartirá los lunes\, de 18:00 a 20:00 horas.
SUMMARY:Curso de Composición Plástica
END:VEVENT
BEGIN:VEVENT
DTSTAMP:20260425T164121Z
UID:event-4404-2023-02-06T18:00:00+01:00-2023-02-06T20:00:00+01:00
DTSTART;TZID=Europe/Madrid:20230206T180000
DTEND;TZID=Europe/Madrid:20230206T200000
DESCRIPTION:Garanza Escuela de Artes Plásticas ofrece un curso de análisi
 s plástico de 11 interesantes obras de la Historia del Arte. El curso com
 ienza el 9 de enero y se impartirá los lunes\, de 18:00 a 20:00 horas.
SUMMARY:Curso de Composición Plástica
END:VEVENT
BEGIN:VEVENT
DTSTAMP:20260425T164121Z
UID:event-4404-2023-02-13T18:00:00+01:00-2023-02-13T20:00:00+01:00
DTSTART;TZID=Europe/Madrid:20230213T180000
DTEND;TZID=Europe/Madrid:20230213T200000
DESCRIPTION:Garanza Escuela de Artes Plásticas ofrece un curso de análisi
 s plástico de 11 interesantes obras de la Historia del Arte. El curso com
 ienza el 9 de enero y se impartirá los lunes\, de 18:00 a 20:00 horas.
SUMMARY:Curso de Composición Plástica
END:VEVENT
BEGIN:VEVENT
DTSTAMP:20260425T164121Z
UID:event-4404-2023-02-20T18:00:00+01:00-2023-02-20T20:00:00+01:00
DTSTART;TZID=Europe/Madrid:20230220T180000
DTEND;TZID=Europe/Madrid:20230220T200000
DESCRIPTION:Garanza Escuela de Artes Plásticas ofrece un curso de análisi
 s plástico de 11 interesantes obras de la Historia del Arte. El curso com
 ienza el 9 de enero y se impartirá los lunes\, de 18:00 a 20:00 horas.
SUMMARY:Curso de Composición Plástica
END:VEVENT
BEGIN:VEVENT
DTSTAMP:20260425T164121Z
UID:event-4404-2023-02-27T18:00:00+01:00-2023-02-27T20:00:00+01:00
DTSTART;TZID=Europe/Madrid:20230227T180000
DTEND;TZID=Europe/Madrid:20230227T200000
DESCRIPTION:Garanza Escuela de Artes Plásticas ofrece un curso de análisi
 s plástico de 11 interesantes obras de la Historia del Arte. El curso com
 ienza el 9 de enero y se impartirá los lunes\, de 18:00 a 20:00 horas.
SUMMARY:Curso de Composición Plástica
END:VEVENT
BEGIN:VEVENT
DTSTAMP:20260425T164121Z
UID:event-4404-2023-03-06T18:00:00+01:00-2023-03-06T20:00:00+01:00
DTSTART;TZID=Europe/Madrid:20230306T180000
DTEND;TZID=Europe/Madrid:20230306T200000
DESCRIPTION:Garanza Escuela de Artes Plásticas ofrece un curso de análisi
 s plástico de 11 interesantes obras de la Historia del Arte. El curso com
 ienza el 9 de enero y se impartirá los lunes\, de 18:00 a 20:00 horas.
SUMMARY:Curso de Composición Plástica
END:VEVENT
BEGIN:VEVENT
DTSTAMP:20260425T164121Z
UID:event-4404-2023-03-13T18:00:00+01:00-2023-03-13T20:00:00+01:00
DTSTART;TZID=Europe/Madrid:20230313T180000
DTEND;TZID=Europe/Madrid:20230313T200000
DESCRIPTION:Garanza Escuela de Artes Plásticas ofrece un curso de análisi
 s plástico de 11 interesantes obras de la Historia del Arte. El curso com
 ienza el 9 de enero y se impartirá los lunes\, de 18:00 a 20:00 horas.
SUMMARY:Curso de Composición Plástica
END:VEVENT
BEGIN:VEVENT
DTSTAMP:20260425T164121Z
UID:event-4404-2023-03-20T18:00:00+01:00-2023-03-20T20:00:00+01:00
DTSTART;TZID=Europe/Madrid:20230320T180000
DTEND;TZID=Europe/Madrid:20230320T200000
DESCRIPTION:Garanza Escuela de Artes Plásticas ofrece un curso de análisi
 s plástico de 11 interesantes obras de la Historia del Arte. El curso com
 ienza el 9 de enero y se impartirá los lunes\, de 18:00 a 20:00 horas.
SUMMARY:Curso de Composición Plástica
END:VEVENT
BEGIN:VEVENT
DTSTAMP:20260425T164121Z
UID:event-4404-2023-03-27T18:00:00+02:00-2023-03-27T20:00:00+02:00
DTSTART;TZID=Europe/Madrid:20230327T180000
DTEND;TZID=Europe/Madrid:20230327T200000
DESCRIPTION:Garanza Escuela de Artes Plásticas ofrece un curso de análisi
 s plástico de 11 interesantes obras de la Historia del Arte. El curso com
 ienza el 9 de enero y se impartirá los lunes\, de 18:00 a 20:00 horas.
SUMMARY:Curso de Composición Plástica
END:VEVENT
BEGIN:VEVENT
DTSTAMP:20260425T164121Z
UID:event-4404-2023-04-03T18:00:00+02:00-2023-04-03T20:00:00+02:00
DTSTART;TZID=Europe/Madrid:20230403T180000
DTEND;TZID=Europe/Madrid:20230403T200000
DESCRIPTION:Garanza Escuela de Artes Plásticas ofrece un curso de análisi
 s plástico de 11 interesantes obras de la Historia del Arte. El curso com
 ienza el 9 de enero y se impartirá los lunes\, de 18:00 a 20:00 horas.
SUMMARY:Curso de Composición Plástica
END:VEVENT
BEGIN:VEVENT
DTSTAMP:20260425T164121Z
UID:event-4404-2023-04-10T18:00:00+02:00-2023-04-10T20:00:00+02:00
DTSTART;TZID=Europe/Madrid:20230410T180000
DTEND;TZID=Europe/Madrid:20230410T200000
DESCRIPTION:Garanza Escuela de Artes Plásticas ofrece un curso de análisi
 s plástico de 11 interesantes obras de la Historia del Arte. El curso com
 ienza el 9 de enero y se impartirá los lunes\, de 18:00 a 20:00 horas.
SUMMARY:Curso de Composición Plástica
END:VEVENT
BEGIN:VEVENT
DTSTAMP:20260425T164121Z
UID:event-4404-2023-04-17T18:00:00+02:00-2023-04-17T20:00:00+02:00
DTSTART;TZID=Europe/Madrid:20230417T180000
DTEND;TZID=Europe/Madrid:20230417T200000
DESCRIPTION:Garanza Escuela de Artes Plásticas ofrece un curso de análisi
 s plástico de 11 interesantes obras de la Historia del Arte. El curso com
 ienza el 9 de enero y se impartirá los lunes\, de 18:00 a 20:00 horas.
SUMMARY:Curso de Composición Plástica
END:VEVENT
BEGIN:VEVENT
DTSTAMP:20260425T164121Z
UID:event-4404-2023-04-24T18:00:00+02:00-2023-04-24T20:00:00+02:00
DTSTART;TZID=Europe/Madrid:20230424T180000
DTEND;TZID=Europe/Madrid:20230424T200000
DESCRIPTION:Garanza Escuela de Artes Plásticas ofrece un curso de análisi
 s plástico de 11 interesantes obras de la Historia del Arte. El curso com
 ienza el 9 de enero y se impartirá los lunes\, de 18:00 a 20:00 horas.
SUMMARY:Curso de Composición Plástica
END:VEVENT
BEGIN:VEVENT
DTSTAMP:20260425T164121Z
UID:event-4404-2023-05-01T18:00:00+02:00-2023-05-01T20:00:00+02:00
DTSTART;TZID=Europe/Madrid:20230501T180000
DTEND;TZID=Europe/Madrid:20230501T200000
DESCRIPTION:Garanza Escuela de Artes Plásticas ofrece un curso de análisi
 s plástico de 11 interesantes obras de la Historia del Arte. El curso com
 ienza el 9 de enero y se impartirá los lunes\, de 18:00 a 20:00 horas.
SUMMARY:Curso de Composición Plástica
END:VEVENT
BEGIN:VEVENT
DTSTAMP:20260425T164121Z
UID:event-4404-2023-05-08T18:00:00+02:00-2023-05-08T20:00:00+02:00
DTSTART;TZID=Europe/Madrid:20230508T180000
DTEND;TZID=Europe/Madrid:20230508T200000
DESCRIPTION:Garanza Escuela de Artes Plásticas ofrece un curso de análisi
 s plástico de 11 interesantes obras de la Historia del Arte. El curso com
 ienza el 9 de enero y se impartirá los lunes\, de 18:00 a 20:00 horas.
SUMMARY:Curso de Composición Plástica
END:VEVENT
BEGIN:VEVENT
DTSTAMP:20260425T164121Z
UID:event-4404-2023-05-15T18:00:00+02:00-2023-05-15T20:00:00+02:00
DTSTART;TZID=Europe/Madrid:20230515T180000
DTEND;TZID=Europe/Madrid:20230515T200000
DESCRIPTION:Garanza Escuela de Artes Plásticas ofrece un curso de análisi
 s plástico de 11 interesantes obras de la Historia del Arte. El curso com
 ienza el 9 de enero y se impartirá los lunes\, de 18:00 a 20:00 horas.
SUMMARY:Curso de Composición Plástica
END:VEVENT
BEGIN:VEVENT
DTSTAMP:20260425T164122Z
UID:event-4404-2023-05-22T18:00:00+02:00-2023-05-22T20:00:00+02:00
DTSTART;TZID=Europe/Madrid:20230522T180000
DTEND;TZID=Europe/Madrid:20230522T200000
DESCRIPTION:Garanza Escuela de Artes Plásticas ofrece un curso de análisi
 s plástico de 11 interesantes obras de la Historia del Arte. El curso com
 ienza el 9 de enero y se impartirá los lunes\, de 18:00 a 20:00 horas.
SUMMARY:Curso de Composición Plástica
END:VEVENT
BEGIN:VEVENT
DTSTAMP:20260425T164122Z
UID:event-4404-2023-05-29T18:00:00+02:00-2023-05-29T20:00:00+02:00
DTSTART;TZID=Europe/Madrid:20230529T180000
DTEND;TZID=Europe/Madrid:20230529T200000
DESCRIPTION:Garanza Escuela de Artes Plásticas ofrece un curso de análisi
 s plástico de 11 interesantes obras de la Historia del Arte. El curso com
 ienza el 9 de enero y se impartirá los lunes\, de 18:00 a 20:00 horas.
SUMMARY:Curso de Composición Plástica
END:VEVENT
BEGIN:VEVENT
DTSTAMP:20260425T164122Z
UID:event-4404-2023-06-05T18:00:00+02:00-2023-06-05T20:00:00+02:00
DTSTART;TZID=Europe/Madrid:20230605T180000
DTEND;TZID=Europe/Madrid:20230605T200000
DESCRIPTION:Garanza Escuela de Artes Plásticas ofrece un curso de análisi
 s plástico de 11 interesantes obras de la Historia del Arte. El curso com
 ienza el 9 de enero y se impartirá los lunes\, de 18:00 a 20:00 horas.
SUMMARY:Curso de Composición Plástica
END:VEVENT
BEGIN:VEVENT
DTSTAMP:20260425T164122Z
UID:event-4404-2023-06-12T18:00:00+02:00-2023-06-12T20:00:00+02:00
DTSTART;TZID=Europe/Madrid:20230612T180000
DTEND;TZID=Europe/Madrid:20230612T200000
DESCRIPTION:Garanza Escuela de Artes Plásticas ofrece un curso de análisi
 s plástico de 11 interesantes obras de la Historia del Arte. El curso com
 ienza el 9 de enero y se impartirá los lunes\, de 18:00 a 20:00 horas.
SUMMARY:Curso de Composición Plástica
END:VEVENT
BEGIN:VEVENT
DTSTAMP:20260425T164122Z
UID:event-4404-2023-06-19T18:00:00+02:00-2023-06-19T20:00:00+02:00
DTSTART;TZID=Europe/Madrid:20230619T180000
DTEND;TZID=Europe/Madrid:20230619T200000
DESCRIPTION:Garanza Escuela de Artes Plásticas ofrece un curso de análisi
 s plástico de 11 interesantes obras de la Historia del Arte. El curso com
 ienza el 9 de enero y se impartirá los lunes\, de 18:00 a 20:00 horas.
SUMMARY:Curso de Composición Plástica
END:VEVENT
BEGIN:VEVENT
DTSTAMP:20260425T164122Z
UID:event-4404-2023-06-26T18:00:00+02:00-2023-06-26T20:00:00+02:00
DTSTART;TZID=Europe/Madrid:20230626T180000
DTEND;TZID=Europe/Madrid:20230626T200000
DESCRIPTION:Garanza Escuela de Artes Plásticas ofrece un curso de análisi
 s plástico de 11 interesantes obras de la Historia del Arte. El curso com
 ienza el 9 de enero y se impartirá los lunes\, de 18:00 a 20:00 horas.
SUMMARY:Curso de Composición Plástica
END:VEVENT
END:VCALENDAR
