BEGIN:VCALENDAR
VERSION:2.0
PRODID:icalendar-ruby
CALSCALE:GREGORIAN
METHOD:PUBLISH
BEGIN:VEVENT
DTSTAMP:20260422T204736Z
UID:event-442-2022-02-19T19:00:00+01:00-none
DTSTART;TZID=Europe/Madrid:20220219T190000
DESCRIPTION:La Sociedad Cántabra de Escritores\, con el apoyo de la Consej
 ería de Universidades\, Igualdad\, Cultura y Deporte y del Ayuntamiento d
 e Santander\, organiza el XI Día de las Letras de Cantabria\, que se cele
 brará en el Ateneo de Santander.
SUMMARY:XI Día de las Letras de Cantabria
END:VEVENT
END:VCALENDAR
