BEGIN:VCALENDAR
VERSION:2.0
PRODID:icalendar-ruby
CALSCALE:GREGORIAN
METHOD:PUBLISH
BEGIN:VEVENT
DTSTAMP:20260424T163104Z
UID:event-4456-2023-01-10T18:00:00+01:00-none
DTSTART;TZID=Europe/Madrid:20230110T180000
DESCRIPTION:Segunda Guerra Mundial (1939-1945). En el frente oriental\, un 
 escuadrón de soldados alemanes\, capitaneados por un duro oficial\, se en
 frenta a las temibles hordas del ejército ruso.
SUMMARY:"La cruz de hierro"\, de Sam Peckinpah
END:VEVENT
END:VCALENDAR
