BEGIN:VCALENDAR
VERSION:2.0
PRODID:icalendar-ruby
CALSCALE:GREGORIAN
METHOD:PUBLISH
BEGIN:VEVENT
DTSTAMP:20260422T204108Z
UID:event-475-2022-03-19T11:00:00+01:00-none
DTSTART;TZID=Europe/Madrid:20220319T110000
DESCRIPTION:KL’AA es un viaje musical del niño hacia el descubrimiento d
 el mundo. Una experiencia visual y sonora a través de la voz y la canció
 n. Pone de manifiesto la voz como fundamento de la presencia humana\, como
  vehículo de identidad.
SUMMARY:"KL’AA"\, un viaje musical por el mundo
END:VEVENT
BEGIN:VEVENT
DTSTAMP:20260422T204108Z
UID:event-475-2022-03-19T12:30:00+01:00-none
DTSTART;TZID=Europe/Madrid:20220319T123000
DESCRIPTION:KL’AA es un viaje musical del niño hacia el descubrimiento d
 el mundo. Una experiencia visual y sonora a través de la voz y la canció
 n. Pone de manifiesto la voz como fundamento de la presencia humana\, como
  vehículo de identidad.
SUMMARY:"KL’AA"\, un viaje musical por el mundo
END:VEVENT
END:VCALENDAR
