BEGIN:VCALENDAR
VERSION:2.0
PRODID:icalendar-ruby
CALSCALE:GREGORIAN
METHOD:PUBLISH
BEGIN:VEVENT
DTSTAMP:20260422T204223Z
UID:event-482-2022-03-07T20:30:00+01:00-none
DTSTART;TZID=Europe/Madrid:20220307T203000
DESCRIPTION:El bluesman Jontavious Willis respira a clásico desde una prim
 era escucha. Este es el primer tour europeo y la primera visita a nuestro 
 país de este gran multiinstrumentista\, que apenas cuenta veinticinco añ
 os.
SUMMARY:Primera visita a España del bluesman Jontavious Willis
END:VEVENT
END:VCALENDAR
