BEGIN:VCALENDAR
VERSION:2.0
PRODID:icalendar-ruby
CALSCALE:GREGORIAN
METHOD:PUBLISH
BEGIN:VEVENT
DTSTAMP:20260422T204536Z
UID:event-488-2022-02-11T16:00:00+01:00-none
DTSTART;TZID=Europe/Madrid:20220211T160000
DESCRIPTION:Marianne Winckler\, una reconocida autora\, decide escribir un 
 libro sobre la precariedad laboral viviendo esta realidad de primera mano.
  Para ello\, ocultando su identidad\, consigue trabajo como limpiadora en 
 un pueblo de Normandía.
SUMMARY:"En un muelle de Normandía"\, de Emmanuel Carrère (V.O.S.)
END:VEVENT
BEGIN:VEVENT
DTSTAMP:20260422T204536Z
UID:event-488-2022-02-12T16:00:00+01:00-none
DTSTART;TZID=Europe/Madrid:20220212T160000
DESCRIPTION:Marianne Winckler\, una reconocida autora\, decide escribir un 
 libro sobre la precariedad laboral viviendo esta realidad de primera mano.
  Para ello\, ocultando su identidad\, consigue trabajo como limpiadora en 
 un pueblo de Normandía.
SUMMARY:"En un muelle de Normandía"\, de Emmanuel Carrère (V.O.S.)
END:VEVENT
BEGIN:VEVENT
DTSTAMP:20260422T204536Z
UID:event-488-2022-02-13T16:00:00+01:00-none
DTSTART;TZID=Europe/Madrid:20220213T160000
DESCRIPTION:Marianne Winckler\, una reconocida autora\, decide escribir un 
 libro sobre la precariedad laboral viviendo esta realidad de primera mano.
  Para ello\, ocultando su identidad\, consigue trabajo como limpiadora en 
 un pueblo de Normandía.
SUMMARY:"En un muelle de Normandía"\, de Emmanuel Carrère (V.O.S.)
END:VEVENT
BEGIN:VEVENT
DTSTAMP:20260422T204536Z
UID:event-488-2022-02-14T16:00:00+01:00-none
DTSTART;TZID=Europe/Madrid:20220214T160000
DESCRIPTION:Marianne Winckler\, una reconocida autora\, decide escribir un 
 libro sobre la precariedad laboral viviendo esta realidad de primera mano.
  Para ello\, ocultando su identidad\, consigue trabajo como limpiadora en 
 un pueblo de Normandía.
SUMMARY:"En un muelle de Normandía"\, de Emmanuel Carrère (V.O.S.)
END:VEVENT
BEGIN:VEVENT
DTSTAMP:20260422T204536Z
UID:event-488-2022-02-15T16:00:00+01:00-none
DTSTART;TZID=Europe/Madrid:20220215T160000
DESCRIPTION:Marianne Winckler\, una reconocida autora\, decide escribir un 
 libro sobre la precariedad laboral viviendo esta realidad de primera mano.
  Para ello\, ocultando su identidad\, consigue trabajo como limpiadora en 
 un pueblo de Normandía.
SUMMARY:"En un muelle de Normandía"\, de Emmanuel Carrère (V.O.S.)
END:VEVENT
BEGIN:VEVENT
DTSTAMP:20260422T204536Z
UID:event-488-2022-02-16T16:00:00+01:00-none
DTSTART;TZID=Europe/Madrid:20220216T160000
DESCRIPTION:Marianne Winckler\, una reconocida autora\, decide escribir un 
 libro sobre la precariedad laboral viviendo esta realidad de primera mano.
  Para ello\, ocultando su identidad\, consigue trabajo como limpiadora en 
 un pueblo de Normandía.
SUMMARY:"En un muelle de Normandía"\, de Emmanuel Carrère (V.O.S.)
END:VEVENT
BEGIN:VEVENT
DTSTAMP:20260422T204536Z
UID:event-488-2022-02-17T16:00:00+01:00-none
DTSTART;TZID=Europe/Madrid:20220217T160000
DESCRIPTION:Marianne Winckler\, una reconocida autora\, decide escribir un 
 libro sobre la precariedad laboral viviendo esta realidad de primera mano.
  Para ello\, ocultando su identidad\, consigue trabajo como limpiadora en 
 un pueblo de Normandía.
SUMMARY:"En un muelle de Normandía"\, de Emmanuel Carrère (V.O.S.)
END:VEVENT
END:VCALENDAR
