BEGIN:VCALENDAR
VERSION:2.0
PRODID:icalendar-ruby
CALSCALE:GREGORIAN
METHOD:PUBLISH
BEGIN:VEVENT
DTSTAMP:20260422T204530Z
UID:event-489-2022-02-18T22:30:00+01:00-none
DTSTART;TZID=Europe/Madrid:20220218T223000
DESCRIPTION:Leïla y Damien se quieren con locura. Ambos luchan por mantene
 r unida a la familia a pesar de la bipolaridad de Damien. Ninguno se rinde
 \, aunque él sabe que nunca podrá ofrecerle lo que ella desea.
SUMMARY:"Un amor intranquilo"\, de Joachim Lafosse
END:VEVENT
BEGIN:VEVENT
DTSTAMP:20260422T204530Z
UID:event-489-2022-02-19T22:30:00+01:00-none
DTSTART;TZID=Europe/Madrid:20220219T223000
DESCRIPTION:Leïla y Damien se quieren con locura. Ambos luchan por mantene
 r unida a la familia a pesar de la bipolaridad de Damien. Ninguno se rinde
 \, aunque él sabe que nunca podrá ofrecerle lo que ella desea.
SUMMARY:"Un amor intranquilo"\, de Joachim Lafosse
END:VEVENT
BEGIN:VEVENT
DTSTAMP:20260422T204530Z
UID:event-489-2022-02-20T22:30:00+01:00-none
DTSTART;TZID=Europe/Madrid:20220220T223000
DESCRIPTION:Leïla y Damien se quieren con locura. Ambos luchan por mantene
 r unida a la familia a pesar de la bipolaridad de Damien. Ninguno se rinde
 \, aunque él sabe que nunca podrá ofrecerle lo que ella desea.
SUMMARY:"Un amor intranquilo"\, de Joachim Lafosse
END:VEVENT
BEGIN:VEVENT
DTSTAMP:20260422T204530Z
UID:event-489-2022-02-21T22:30:00+01:00-none
DTSTART;TZID=Europe/Madrid:20220221T223000
DESCRIPTION:Leïla y Damien se quieren con locura. Ambos luchan por mantene
 r unida a la familia a pesar de la bipolaridad de Damien. Ninguno se rinde
 \, aunque él sabe que nunca podrá ofrecerle lo que ella desea.
SUMMARY:"Un amor intranquilo"\, de Joachim Lafosse
END:VEVENT
BEGIN:VEVENT
DTSTAMP:20260422T204530Z
UID:event-489-2022-02-22T22:30:00+01:00-none
DTSTART;TZID=Europe/Madrid:20220222T223000
DESCRIPTION:Leïla y Damien se quieren con locura. Ambos luchan por mantene
 r unida a la familia a pesar de la bipolaridad de Damien. Ninguno se rinde
 \, aunque él sabe que nunca podrá ofrecerle lo que ella desea.
SUMMARY:"Un amor intranquilo"\, de Joachim Lafosse
END:VEVENT
BEGIN:VEVENT
DTSTAMP:20260422T204530Z
UID:event-489-2022-02-23T22:30:00+01:00-none
DTSTART;TZID=Europe/Madrid:20220223T223000
DESCRIPTION:Leïla y Damien se quieren con locura. Ambos luchan por mantene
 r unida a la familia a pesar de la bipolaridad de Damien. Ninguno se rinde
 \, aunque él sabe que nunca podrá ofrecerle lo que ella desea.
SUMMARY:"Un amor intranquilo"\, de Joachim Lafosse
END:VEVENT
BEGIN:VEVENT
DTSTAMP:20260422T204530Z
UID:event-489-2022-02-24T22:30:00+01:00-none
DTSTART;TZID=Europe/Madrid:20220224T223000
DESCRIPTION:Leïla y Damien se quieren con locura. Ambos luchan por mantene
 r unida a la familia a pesar de la bipolaridad de Damien. Ninguno se rinde
 \, aunque él sabe que nunca podrá ofrecerle lo que ella desea.
SUMMARY:"Un amor intranquilo"\, de Joachim Lafosse
END:VEVENT
END:VCALENDAR
