BEGIN:VCALENDAR
VERSION:2.0
PRODID:icalendar-ruby
CALSCALE:GREGORIAN
METHOD:PUBLISH
BEGIN:VEVENT
DTSTAMP:20260422T203845Z
UID:event-497-2022-03-24T20:00:00+01:00-none
DTSTART;TZID=Europe/Madrid:20220324T200000
DESCRIPTION:Therese Belivet (Rooney Mara)\, una joven dependienta de una ti
 enda de Manhattan que sueña con una vida mejor\, conoce un día a Carol A
 ird (Cate Blanchett)\, una mujer elegante y sofisticada que se encuentra a
 trapada en un matrimonio infeliz.
SUMMARY:"Carol"\, de Todd Haynes (V.O.S.)
END:VEVENT
END:VCALENDAR
