BEGIN:VCALENDAR
VERSION:2.0
PRODID:icalendar-ruby
CALSCALE:GREGORIAN
METHOD:PUBLISH
BEGIN:VEVENT
DTSTAMP:20260422T204320Z
UID:event-503-2022-02-13T10:30:00+01:00-2022-02-13T11:30:00+01:00
DTSTART;TZID=Europe/Madrid:20220213T103000
DTEND;TZID=Europe/Madrid:20220213T113000
DESCRIPTION:Sesiones de danza al aire libre para desplegar nuestra danza y 
 conectar con la vida en la fuente de la vida.
SUMMARY:Danza consciente "al fresco"
END:VEVENT
END:VCALENDAR
