BEGIN:VCALENDAR
VERSION:2.0
PRODID:icalendar-ruby
CALSCALE:GREGORIAN
METHOD:PUBLISH
BEGIN:VEVENT
DTSTAMP:20260423T101353Z
UID:event-5162-2023-04-08T18:30:00+02:00-none
DTSTART;TZID=Europe/Madrid:20230408T183000
DESCRIPTION:El Mago Xuso nos presenta su nuevo espectáculo de ilusionismo.
  Ilusiones inéditas\, creadas y diseñadas por él mismo.
SUMMARY:"Magix"\, la magia original del Mago Xuso
END:VEVENT
BEGIN:VEVENT
DTSTAMP:20260423T101353Z
UID:event-5162-2023-04-09T12:00:00+02:00-none
DTSTART;TZID=Europe/Madrid:20230409T120000
DESCRIPTION:El Mago Xuso nos presenta su nuevo espectáculo de ilusionismo.
  Ilusiones inéditas\, creadas y diseñadas por él mismo.
SUMMARY:"Magix"\, la magia original del Mago Xuso
END:VEVENT
END:VCALENDAR
