BEGIN:VCALENDAR
VERSION:2.0
PRODID:icalendar-ruby
CALSCALE:GREGORIAN
METHOD:PUBLISH
BEGIN:VEVENT
DTSTAMP:20260425T171225Z
UID:event-5235-2023-03-09T18:00:00+01:00-none
DTSTART;TZID=Europe/Madrid:20230309T180000
DESCRIPTION:El Work Café Santander organiza el encuentro con Dania Vasquez
 \, gerente de Ktu Santander Concept Store\, que hablará acerca de la sost
 enibilidad como nuevo reto en el mundo de la moda.
SUMMARY:"La sostenibilidad\, nuevo reto en la moda"\, con Dania Vasquez
END:VEVENT
END:VCALENDAR
