BEGIN:VCALENDAR
VERSION:2.0
PRODID:icalendar-ruby
CALSCALE:GREGORIAN
METHOD:PUBLISH
BEGIN:VEVENT
DTSTAMP:20260419T125237Z
UID:event-5580-2023-03-31T18:15:00+02:00-none
DTSTART;TZID=Europe/Madrid:20230331T181500
DESCRIPTION:Una madre soltera y un hombre casado se vuelven amantes. Están
  comprometidos a verse solo por una aventura y no a encontrar ninguna espe
 ranza de amor\, sabiendo muy bien que la relación no tiene futuro.
SUMMARY:"Crónica de un amor efímero"\, de Emmanuel Mouret
END:VEVENT
BEGIN:VEVENT
DTSTAMP:20260419T125237Z
UID:event-5580-2023-04-01T18:15:00+02:00-none
DTSTART;TZID=Europe/Madrid:20230401T181500
DESCRIPTION:Una madre soltera y un hombre casado se vuelven amantes. Están
  comprometidos a verse solo por una aventura y no a encontrar ninguna espe
 ranza de amor\, sabiendo muy bien que la relación no tiene futuro.
SUMMARY:"Crónica de un amor efímero"\, de Emmanuel Mouret
END:VEVENT
BEGIN:VEVENT
DTSTAMP:20260419T125237Z
UID:event-5580-2023-04-02T18:15:00+02:00-none
DTSTART;TZID=Europe/Madrid:20230402T181500
DESCRIPTION:Una madre soltera y un hombre casado se vuelven amantes. Están
  comprometidos a verse solo por una aventura y no a encontrar ninguna espe
 ranza de amor\, sabiendo muy bien que la relación no tiene futuro.
SUMMARY:"Crónica de un amor efímero"\, de Emmanuel Mouret
END:VEVENT
BEGIN:VEVENT
DTSTAMP:20260419T125237Z
UID:event-5580-2023-04-03T18:15:00+02:00-none
DTSTART;TZID=Europe/Madrid:20230403T181500
DESCRIPTION:Una madre soltera y un hombre casado se vuelven amantes. Están
  comprometidos a verse solo por una aventura y no a encontrar ninguna espe
 ranza de amor\, sabiendo muy bien que la relación no tiene futuro.
SUMMARY:"Crónica de un amor efímero"\, de Emmanuel Mouret
END:VEVENT
BEGIN:VEVENT
DTSTAMP:20260419T125237Z
UID:event-5580-2023-04-04T18:15:00+02:00-none
DTSTART;TZID=Europe/Madrid:20230404T181500
DESCRIPTION:Una madre soltera y un hombre casado se vuelven amantes. Están
  comprometidos a verse solo por una aventura y no a encontrar ninguna espe
 ranza de amor\, sabiendo muy bien que la relación no tiene futuro.
SUMMARY:"Crónica de un amor efímero"\, de Emmanuel Mouret
END:VEVENT
BEGIN:VEVENT
DTSTAMP:20260419T125237Z
UID:event-5580-2023-04-05T16:20:00+02:00-none
DTSTART;TZID=Europe/Madrid:20230405T162000
DESCRIPTION:Una madre soltera y un hombre casado se vuelven amantes. Están
  comprometidos a verse solo por una aventura y no a encontrar ninguna espe
 ranza de amor\, sabiendo muy bien que la relación no tiene futuro.
SUMMARY:"Crónica de un amor efímero"\, de Emmanuel Mouret
END:VEVENT
BEGIN:VEVENT
DTSTAMP:20260419T125237Z
UID:event-5580-2023-04-05T22:30:00+02:00-none
DTSTART;TZID=Europe/Madrid:20230405T223000
DESCRIPTION:Una madre soltera y un hombre casado se vuelven amantes. Están
  comprometidos a verse solo por una aventura y no a encontrar ninguna espe
 ranza de amor\, sabiendo muy bien que la relación no tiene futuro.
SUMMARY:"Crónica de un amor efímero"\, de Emmanuel Mouret
END:VEVENT
BEGIN:VEVENT
DTSTAMP:20260419T125237Z
UID:event-5580-2023-04-06T16:20:00+02:00-none
DTSTART;TZID=Europe/Madrid:20230406T162000
DESCRIPTION:Una madre soltera y un hombre casado se vuelven amantes. Están
  comprometidos a verse solo por una aventura y no a encontrar ninguna espe
 ranza de amor\, sabiendo muy bien que la relación no tiene futuro.
SUMMARY:"Crónica de un amor efímero"\, de Emmanuel Mouret
END:VEVENT
BEGIN:VEVENT
DTSTAMP:20260419T125237Z
UID:event-5580-2023-04-06T22:30:00+02:00-none
DTSTART;TZID=Europe/Madrid:20230406T223000
DESCRIPTION:Una madre soltera y un hombre casado se vuelven amantes. Están
  comprometidos a verse solo por una aventura y no a encontrar ninguna espe
 ranza de amor\, sabiendo muy bien que la relación no tiene futuro.
SUMMARY:"Crónica de un amor efímero"\, de Emmanuel Mouret
END:VEVENT
BEGIN:VEVENT
DTSTAMP:20260419T125237Z
UID:event-5580-2023-04-07T16:20:00+02:00-none
DTSTART;TZID=Europe/Madrid:20230407T162000
DESCRIPTION:Una madre soltera y un hombre casado se vuelven amantes. Están
  comprometidos a verse solo por una aventura y no a encontrar ninguna espe
 ranza de amor\, sabiendo muy bien que la relación no tiene futuro.
SUMMARY:"Crónica de un amor efímero"\, de Emmanuel Mouret
END:VEVENT
BEGIN:VEVENT
DTSTAMP:20260419T125237Z
UID:event-5580-2023-04-07T22:30:00+02:00-none
DTSTART;TZID=Europe/Madrid:20230407T223000
DESCRIPTION:Una madre soltera y un hombre casado se vuelven amantes. Están
  comprometidos a verse solo por una aventura y no a encontrar ninguna espe
 ranza de amor\, sabiendo muy bien que la relación no tiene futuro.
SUMMARY:"Crónica de un amor efímero"\, de Emmanuel Mouret
END:VEVENT
BEGIN:VEVENT
DTSTAMP:20260419T125237Z
UID:event-5580-2023-04-08T16:20:00+02:00-none
DTSTART;TZID=Europe/Madrid:20230408T162000
DESCRIPTION:Una madre soltera y un hombre casado se vuelven amantes. Están
  comprometidos a verse solo por una aventura y no a encontrar ninguna espe
 ranza de amor\, sabiendo muy bien que la relación no tiene futuro.
SUMMARY:"Crónica de un amor efímero"\, de Emmanuel Mouret
END:VEVENT
BEGIN:VEVENT
DTSTAMP:20260419T125237Z
UID:event-5580-2023-04-08T22:30:00+02:00-none
DTSTART;TZID=Europe/Madrid:20230408T223000
DESCRIPTION:Una madre soltera y un hombre casado se vuelven amantes. Están
  comprometidos a verse solo por una aventura y no a encontrar ninguna espe
 ranza de amor\, sabiendo muy bien que la relación no tiene futuro.
SUMMARY:"Crónica de un amor efímero"\, de Emmanuel Mouret
END:VEVENT
BEGIN:VEVENT
DTSTAMP:20260419T125237Z
UID:event-5580-2023-04-09T16:20:00+02:00-none
DTSTART;TZID=Europe/Madrid:20230409T162000
DESCRIPTION:Una madre soltera y un hombre casado se vuelven amantes. Están
  comprometidos a verse solo por una aventura y no a encontrar ninguna espe
 ranza de amor\, sabiendo muy bien que la relación no tiene futuro.
SUMMARY:"Crónica de un amor efímero"\, de Emmanuel Mouret
END:VEVENT
BEGIN:VEVENT
DTSTAMP:20260419T125237Z
UID:event-5580-2023-04-09T22:30:00+02:00-none
DTSTART;TZID=Europe/Madrid:20230409T223000
DESCRIPTION:Una madre soltera y un hombre casado se vuelven amantes. Están
  comprometidos a verse solo por una aventura y no a encontrar ninguna espe
 ranza de amor\, sabiendo muy bien que la relación no tiene futuro.
SUMMARY:"Crónica de un amor efímero"\, de Emmanuel Mouret
END:VEVENT
BEGIN:VEVENT
DTSTAMP:20260419T125237Z
UID:event-5580-2023-04-10T16:20:00+02:00-none
DTSTART;TZID=Europe/Madrid:20230410T162000
DESCRIPTION:Una madre soltera y un hombre casado se vuelven amantes. Están
  comprometidos a verse solo por una aventura y no a encontrar ninguna espe
 ranza de amor\, sabiendo muy bien que la relación no tiene futuro.
SUMMARY:"Crónica de un amor efímero"\, de Emmanuel Mouret
END:VEVENT
BEGIN:VEVENT
DTSTAMP:20260419T125237Z
UID:event-5580-2023-04-10T22:30:00+02:00-none
DTSTART;TZID=Europe/Madrid:20230410T223000
DESCRIPTION:Una madre soltera y un hombre casado se vuelven amantes. Están
  comprometidos a verse solo por una aventura y no a encontrar ninguna espe
 ranza de amor\, sabiendo muy bien que la relación no tiene futuro.
SUMMARY:"Crónica de un amor efímero"\, de Emmanuel Mouret
END:VEVENT
BEGIN:VEVENT
DTSTAMP:20260419T125237Z
UID:event-5580-2023-04-11T16:20:00+02:00-none
DTSTART;TZID=Europe/Madrid:20230411T162000
DESCRIPTION:Una madre soltera y un hombre casado se vuelven amantes. Están
  comprometidos a verse solo por una aventura y no a encontrar ninguna espe
 ranza de amor\, sabiendo muy bien que la relación no tiene futuro.
SUMMARY:"Crónica de un amor efímero"\, de Emmanuel Mouret
END:VEVENT
BEGIN:VEVENT
DTSTAMP:20260419T125237Z
UID:event-5580-2023-04-11T22:30:00+02:00-none
DTSTART;TZID=Europe/Madrid:20230411T223000
DESCRIPTION:Una madre soltera y un hombre casado se vuelven amantes. Están
  comprometidos a verse solo por una aventura y no a encontrar ninguna espe
 ranza de amor\, sabiendo muy bien que la relación no tiene futuro.
SUMMARY:"Crónica de un amor efímero"\, de Emmanuel Mouret
END:VEVENT
BEGIN:VEVENT
DTSTAMP:20260419T125237Z
UID:event-5580-2023-04-12T16:20:00+02:00-none
DTSTART;TZID=Europe/Madrid:20230412T162000
DESCRIPTION:Una madre soltera y un hombre casado se vuelven amantes. Están
  comprometidos a verse solo por una aventura y no a encontrar ninguna espe
 ranza de amor\, sabiendo muy bien que la relación no tiene futuro.
SUMMARY:"Crónica de un amor efímero"\, de Emmanuel Mouret
END:VEVENT
BEGIN:VEVENT
DTSTAMP:20260419T125237Z
UID:event-5580-2023-04-12T22:30:00+02:00-none
DTSTART;TZID=Europe/Madrid:20230412T223000
DESCRIPTION:Una madre soltera y un hombre casado se vuelven amantes. Están
  comprometidos a verse solo por una aventura y no a encontrar ninguna espe
 ranza de amor\, sabiendo muy bien que la relación no tiene futuro.
SUMMARY:"Crónica de un amor efímero"\, de Emmanuel Mouret
END:VEVENT
BEGIN:VEVENT
DTSTAMP:20260419T125237Z
UID:event-5580-2023-04-13T16:20:00+02:00-none
DTSTART;TZID=Europe/Madrid:20230413T162000
DESCRIPTION:Una madre soltera y un hombre casado se vuelven amantes. Están
  comprometidos a verse solo por una aventura y no a encontrar ninguna espe
 ranza de amor\, sabiendo muy bien que la relación no tiene futuro.
SUMMARY:"Crónica de un amor efímero"\, de Emmanuel Mouret
END:VEVENT
BEGIN:VEVENT
DTSTAMP:20260419T125237Z
UID:event-5580-2023-04-13T22:30:00+02:00-none
DTSTART;TZID=Europe/Madrid:20230413T223000
DESCRIPTION:Una madre soltera y un hombre casado se vuelven amantes. Están
  comprometidos a verse solo por una aventura y no a encontrar ninguna espe
 ranza de amor\, sabiendo muy bien que la relación no tiene futuro.
SUMMARY:"Crónica de un amor efímero"\, de Emmanuel Mouret
END:VEVENT
END:VCALENDAR
