BEGIN:VCALENDAR
VERSION:2.0
PRODID:icalendar-ruby
CALSCALE:GREGORIAN
METHOD:PUBLISH
BEGIN:VEVENT
DTSTAMP:20260425T165157Z
UID:event-6202-2023-05-11T18:00:00+02:00-none
DTSTART;TZID=Europe/Madrid:20230511T180000
DESCRIPTION:Los días 11 y 12 de mayo\, a las 18:00h\, Cineinfinito prosigu
 e el ciclo de cine experimental con proyecciones  dedicadas a los cineasta
 s Etienne O´Leary y Christopher Maclaine.
SUMMARY:Cineinfinito prosigue el ciclo de cine experimental con proyeccione
 s de Etienne O´Leary y Christopher Maclaine
END:VEVENT
BEGIN:VEVENT
DTSTAMP:20260425T165157Z
UID:event-6202-2023-05-12T18:00:00+02:00-none
DTSTART;TZID=Europe/Madrid:20230512T180000
DESCRIPTION:Los días 11 y 12 de mayo\, a las 18:00h\, Cineinfinito prosigu
 e el ciclo de cine experimental con proyecciones  dedicadas a los cineasta
 s Etienne O´Leary y Christopher Maclaine.
SUMMARY:Cineinfinito prosigue el ciclo de cine experimental con proyeccione
 s de Etienne O´Leary y Christopher Maclaine
END:VEVENT
END:VCALENDAR
