BEGIN:VCALENDAR
VERSION:2.0
PRODID:icalendar-ruby
CALSCALE:GREGORIAN
METHOD:PUBLISH
BEGIN:VEVENT
DTSTAMP:20260424T030903Z
UID:event-6205-2023-05-12T19:00:00+02:00-none
DTSTART;TZID=Europe/Madrid:20230512T190000
DESCRIPTION:A todos los que aman\, a todos los que han amado y ya no\, a to
 dos los que amarán algún día. La vida es amor\, pero también lo contra
 rio\, desamor. La vida sin amor es odio y el odio mata. 
SUMMARY:José Juan Poveda presenta su nuevo poemario
END:VEVENT
END:VCALENDAR
