BEGIN:VCALENDAR
VERSION:2.0
PRODID:icalendar-ruby
CALSCALE:GREGORIAN
METHOD:PUBLISH
BEGIN:VEVENT
DTSTAMP:20260424T215141Z
UID:event-6622-2023-06-28T19:30:00+02:00-none
DTSTART;TZID=Europe/Madrid:20230628T193000
DESCRIPTION:A través del personaje central\, Morad\, penetramos en las dis
 tintas capas de una realidad íntima\, cuyo núcleo es su madre\, Farida.
SUMMARY:"Una oración sin dios". Presentación con Karima Ziali
END:VEVENT
END:VCALENDAR
