BEGIN:VCALENDAR
VERSION:2.0
PRODID:icalendar-ruby
CALSCALE:GREGORIAN
METHOD:PUBLISH
BEGIN:VEVENT
DTSTAMP:20260419T124620Z
UID:event-7248-2023-08-10T20:00:00+02:00-none
DTSTART;TZID=Europe/Madrid:20230810T200000
DESCRIPTION:Concierto de Inés Fonseca en Inder Espacio\, dentro del marco 
 expositivo de la obra de Pedro Calderón. Interpretará las canciones de s
 u nievo trabajo “Ser agua”.
SUMMARY:Concierto de Inés Fonseca
END:VEVENT
END:VCALENDAR
