BEGIN:VCALENDAR
VERSION:2.0
PRODID:icalendar-ruby
CALSCALE:GREGORIAN
METHOD:PUBLISH
BEGIN:VEVENT
DTSTAMP:20260426T020743Z
UID:event-8181-2023-11-10T16:10:00+01:00-none
DTSTART;TZID=Europe/Madrid:20231110T161000
DESCRIPTION:Años 60\, desierto de Atacama\, Chile. María Magnolia es una 
 mujer que a pesar de vivir bajo difíciles condiciones\, trata de transmit
 ir a su hija\, María Margarita\, su pasión por el arte. 
SUMMARY:"La contadora de películas"\, dirigida por Lone Scherfig
END:VEVENT
BEGIN:VEVENT
DTSTAMP:20260426T020743Z
UID:event-8181-2023-11-10T20:15:00+01:00-none
DTSTART;TZID=Europe/Madrid:20231110T201500
DESCRIPTION:Años 60\, desierto de Atacama\, Chile. María Magnolia es una 
 mujer que a pesar de vivir bajo difíciles condiciones\, trata de transmit
 ir a su hija\, María Margarita\, su pasión por el arte. 
SUMMARY:"La contadora de películas"\, dirigida por Lone Scherfig
END:VEVENT
BEGIN:VEVENT
DTSTAMP:20260426T020743Z
UID:event-8181-2023-11-11T16:10:00+01:00-none
DTSTART;TZID=Europe/Madrid:20231111T161000
DESCRIPTION:Años 60\, desierto de Atacama\, Chile. María Magnolia es una 
 mujer que a pesar de vivir bajo difíciles condiciones\, trata de transmit
 ir a su hija\, María Margarita\, su pasión por el arte. 
SUMMARY:"La contadora de películas"\, dirigida por Lone Scherfig
END:VEVENT
BEGIN:VEVENT
DTSTAMP:20260426T020743Z
UID:event-8181-2023-11-11T20:15:00+01:00-none
DTSTART;TZID=Europe/Madrid:20231111T201500
DESCRIPTION:Años 60\, desierto de Atacama\, Chile. María Magnolia es una 
 mujer que a pesar de vivir bajo difíciles condiciones\, trata de transmit
 ir a su hija\, María Margarita\, su pasión por el arte. 
SUMMARY:"La contadora de películas"\, dirigida por Lone Scherfig
END:VEVENT
BEGIN:VEVENT
DTSTAMP:20260426T020743Z
UID:event-8181-2023-11-12T16:10:00+01:00-none
DTSTART;TZID=Europe/Madrid:20231112T161000
DESCRIPTION:Años 60\, desierto de Atacama\, Chile. María Magnolia es una 
 mujer que a pesar de vivir bajo difíciles condiciones\, trata de transmit
 ir a su hija\, María Margarita\, su pasión por el arte. 
SUMMARY:"La contadora de películas"\, dirigida por Lone Scherfig
END:VEVENT
BEGIN:VEVENT
DTSTAMP:20260426T020743Z
UID:event-8181-2023-11-12T20:15:00+01:00-none
DTSTART;TZID=Europe/Madrid:20231112T201500
DESCRIPTION:Años 60\, desierto de Atacama\, Chile. María Magnolia es una 
 mujer que a pesar de vivir bajo difíciles condiciones\, trata de transmit
 ir a su hija\, María Margarita\, su pasión por el arte. 
SUMMARY:"La contadora de películas"\, dirigida por Lone Scherfig
END:VEVENT
BEGIN:VEVENT
DTSTAMP:20260426T020743Z
UID:event-8181-2023-11-13T16:10:00+01:00-none
DTSTART;TZID=Europe/Madrid:20231113T161000
DESCRIPTION:Años 60\, desierto de Atacama\, Chile. María Magnolia es una 
 mujer que a pesar de vivir bajo difíciles condiciones\, trata de transmit
 ir a su hija\, María Margarita\, su pasión por el arte. 
SUMMARY:"La contadora de películas"\, dirigida por Lone Scherfig
END:VEVENT
BEGIN:VEVENT
DTSTAMP:20260426T020743Z
UID:event-8181-2023-11-13T20:15:00+01:00-none
DTSTART;TZID=Europe/Madrid:20231113T201500
DESCRIPTION:Años 60\, desierto de Atacama\, Chile. María Magnolia es una 
 mujer que a pesar de vivir bajo difíciles condiciones\, trata de transmit
 ir a su hija\, María Margarita\, su pasión por el arte. 
SUMMARY:"La contadora de películas"\, dirigida por Lone Scherfig
END:VEVENT
BEGIN:VEVENT
DTSTAMP:20260426T020743Z
UID:event-8181-2023-11-14T16:10:00+01:00-none
DTSTART;TZID=Europe/Madrid:20231114T161000
DESCRIPTION:Años 60\, desierto de Atacama\, Chile. María Magnolia es una 
 mujer que a pesar de vivir bajo difíciles condiciones\, trata de transmit
 ir a su hija\, María Margarita\, su pasión por el arte. 
SUMMARY:"La contadora de películas"\, dirigida por Lone Scherfig
END:VEVENT
BEGIN:VEVENT
DTSTAMP:20260426T020743Z
UID:event-8181-2023-11-14T20:15:00+01:00-none
DTSTART;TZID=Europe/Madrid:20231114T201500
DESCRIPTION:Años 60\, desierto de Atacama\, Chile. María Magnolia es una 
 mujer que a pesar de vivir bajo difíciles condiciones\, trata de transmit
 ir a su hija\, María Margarita\, su pasión por el arte. 
SUMMARY:"La contadora de películas"\, dirigida por Lone Scherfig
END:VEVENT
BEGIN:VEVENT
DTSTAMP:20260426T020743Z
UID:event-8181-2023-11-15T16:10:00+01:00-none
DTSTART;TZID=Europe/Madrid:20231115T161000
DESCRIPTION:Años 60\, desierto de Atacama\, Chile. María Magnolia es una 
 mujer que a pesar de vivir bajo difíciles condiciones\, trata de transmit
 ir a su hija\, María Margarita\, su pasión por el arte. 
SUMMARY:"La contadora de películas"\, dirigida por Lone Scherfig
END:VEVENT
BEGIN:VEVENT
DTSTAMP:20260426T020743Z
UID:event-8181-2023-11-15T20:15:00+01:00-none
DTSTART;TZID=Europe/Madrid:20231115T201500
DESCRIPTION:Años 60\, desierto de Atacama\, Chile. María Magnolia es una 
 mujer que a pesar de vivir bajo difíciles condiciones\, trata de transmit
 ir a su hija\, María Margarita\, su pasión por el arte. 
SUMMARY:"La contadora de películas"\, dirigida por Lone Scherfig
END:VEVENT
BEGIN:VEVENT
DTSTAMP:20260426T020743Z
UID:event-8181-2023-11-16T16:10:00+01:00-none
DTSTART;TZID=Europe/Madrid:20231116T161000
DESCRIPTION:Años 60\, desierto de Atacama\, Chile. María Magnolia es una 
 mujer que a pesar de vivir bajo difíciles condiciones\, trata de transmit
 ir a su hija\, María Margarita\, su pasión por el arte. 
SUMMARY:"La contadora de películas"\, dirigida por Lone Scherfig
END:VEVENT
BEGIN:VEVENT
DTSTAMP:20260426T020743Z
UID:event-8181-2023-11-16T20:15:00+01:00-none
DTSTART;TZID=Europe/Madrid:20231116T201500
DESCRIPTION:Años 60\, desierto de Atacama\, Chile. María Magnolia es una 
 mujer que a pesar de vivir bajo difíciles condiciones\, trata de transmit
 ir a su hija\, María Margarita\, su pasión por el arte. 
SUMMARY:"La contadora de películas"\, dirigida por Lone Scherfig
END:VEVENT
BEGIN:VEVENT
DTSTAMP:20260426T020743Z
UID:event-8181-2023-11-17T18:15:00+01:00-none
DTSTART;TZID=Europe/Madrid:20231117T181500
DESCRIPTION:Años 60\, desierto de Atacama\, Chile. María Magnolia es una 
 mujer que a pesar de vivir bajo difíciles condiciones\, trata de transmit
 ir a su hija\, María Margarita\, su pasión por el arte. 
SUMMARY:"La contadora de películas"\, dirigida por Lone Scherfig
END:VEVENT
BEGIN:VEVENT
DTSTAMP:20260426T020743Z
UID:event-8181-2023-11-18T18:15:00+01:00-none
DTSTART;TZID=Europe/Madrid:20231118T181500
DESCRIPTION:Años 60\, desierto de Atacama\, Chile. María Magnolia es una 
 mujer que a pesar de vivir bajo difíciles condiciones\, trata de transmit
 ir a su hija\, María Margarita\, su pasión por el arte. 
SUMMARY:"La contadora de películas"\, dirigida por Lone Scherfig
END:VEVENT
BEGIN:VEVENT
DTSTAMP:20260426T020743Z
UID:event-8181-2023-11-19T18:15:00+01:00-none
DTSTART;TZID=Europe/Madrid:20231119T181500
DESCRIPTION:Años 60\, desierto de Atacama\, Chile. María Magnolia es una 
 mujer que a pesar de vivir bajo difíciles condiciones\, trata de transmit
 ir a su hija\, María Margarita\, su pasión por el arte. 
SUMMARY:"La contadora de películas"\, dirigida por Lone Scherfig
END:VEVENT
BEGIN:VEVENT
DTSTAMP:20260426T020743Z
UID:event-8181-2023-11-20T18:15:00+01:00-none
DTSTART;TZID=Europe/Madrid:20231120T181500
DESCRIPTION:Años 60\, desierto de Atacama\, Chile. María Magnolia es una 
 mujer que a pesar de vivir bajo difíciles condiciones\, trata de transmit
 ir a su hija\, María Margarita\, su pasión por el arte. 
SUMMARY:"La contadora de películas"\, dirigida por Lone Scherfig
END:VEVENT
BEGIN:VEVENT
DTSTAMP:20260426T020743Z
UID:event-8181-2023-11-21T18:15:00+01:00-none
DTSTART;TZID=Europe/Madrid:20231121T181500
DESCRIPTION:Años 60\, desierto de Atacama\, Chile. María Magnolia es una 
 mujer que a pesar de vivir bajo difíciles condiciones\, trata de transmit
 ir a su hija\, María Margarita\, su pasión por el arte. 
SUMMARY:"La contadora de películas"\, dirigida por Lone Scherfig
END:VEVENT
BEGIN:VEVENT
DTSTAMP:20260426T020743Z
UID:event-8181-2023-11-22T18:15:00+01:00-none
DTSTART;TZID=Europe/Madrid:20231122T181500
DESCRIPTION:Años 60\, desierto de Atacama\, Chile. María Magnolia es una 
 mujer que a pesar de vivir bajo difíciles condiciones\, trata de transmit
 ir a su hija\, María Margarita\, su pasión por el arte. 
SUMMARY:"La contadora de películas"\, dirigida por Lone Scherfig
END:VEVENT
BEGIN:VEVENT
DTSTAMP:20260426T020743Z
UID:event-8181-2023-11-23T18:15:00+01:00-none
DTSTART;TZID=Europe/Madrid:20231123T181500
DESCRIPTION:Años 60\, desierto de Atacama\, Chile. María Magnolia es una 
 mujer que a pesar de vivir bajo difíciles condiciones\, trata de transmit
 ir a su hija\, María Margarita\, su pasión por el arte. 
SUMMARY:"La contadora de películas"\, dirigida por Lone Scherfig
END:VEVENT
END:VCALENDAR
