BEGIN:VCALENDAR
VERSION:2.0
PRODID:icalendar-ruby
CALSCALE:GREGORIAN
METHOD:PUBLISH
BEGIN:VEVENT
DTSTAMP:20260424T171118Z
UID:event-8399-2023-12-02T19:00:00+01:00-none
DTSTART;TZID=Europe/Madrid:20231202T190000
DESCRIPTION:El sábado 2 de diciembre\, Mikel Gurrea impartirá la mastercl
 ass “Del bosque al cine: El proceso de la película SURO”. Será las 
 19:00 horas en la sala DCP de la Filmoteca de Cantabria Mario Camus.
SUMMARY:Del bosque al cine: El proceso de la película "Suro"\, con Mikel G
 urrea
END:VEVENT
END:VCALENDAR
