BEGIN:VCALENDAR
VERSION:2.0
PRODID:icalendar-ruby
CALSCALE:GREGORIAN
METHOD:PUBLISH
BEGIN:VEVENT
DTSTAMP:20260419T125721Z
UID:event-8547-2023-11-22T19:00:00+01:00-none
DTSTART;TZID=Europe/Madrid:20231122T190000
DESCRIPTION:Nando López presenta su obra “Los Elegidos”\, una historia
  de amor\, amistad y lucha nada convencional.
SUMMARY:Nando López presenta el libro "Los elegidos"
END:VEVENT
END:VCALENDAR
