BEGIN:VCALENDAR
VERSION:2.0
PRODID:icalendar-ruby
CALSCALE:GREGORIAN
METHOD:PUBLISH
BEGIN:VEVENT
DTSTAMP:20260424T163104Z
UID:event-8739-2023-12-07T19:30:00+01:00-none
DTSTART;TZID=Europe/Madrid:20231207T193000
DESCRIPTION:Smart Tour Santander lanza el tour cultural gastronómico Sabor
 eando Santander\, una visita guiada a pie acompañada por un Guía Oficial
  de Turismo acreditado.
SUMMARY:Saboreando Santander. Tour Cultural Gastronómico
END:VEVENT
BEGIN:VEVENT
DTSTAMP:20260424T163104Z
UID:event-8739-2023-12-08T19:30:00+01:00-none
DTSTART;TZID=Europe/Madrid:20231208T193000
DESCRIPTION:Smart Tour Santander lanza el tour cultural gastronómico Sabor
 eando Santander\, una visita guiada a pie acompañada por un Guía Oficial
  de Turismo acreditado.
SUMMARY:Saboreando Santander. Tour Cultural Gastronómico
END:VEVENT
BEGIN:VEVENT
DTSTAMP:20260424T163104Z
UID:event-8739-2023-12-09T19:30:00+01:00-none
DTSTART;TZID=Europe/Madrid:20231209T193000
DESCRIPTION:Smart Tour Santander lanza el tour cultural gastronómico Sabor
 eando Santander\, una visita guiada a pie acompañada por un Guía Oficial
  de Turismo acreditado.
SUMMARY:Saboreando Santander. Tour Cultural Gastronómico
END:VEVENT
BEGIN:VEVENT
DTSTAMP:20260424T163104Z
UID:event-8739-2023-12-15T19:30:00+01:00-none
DTSTART;TZID=Europe/Madrid:20231215T193000
DESCRIPTION:Smart Tour Santander lanza el tour cultural gastronómico Sabor
 eando Santander\, una visita guiada a pie acompañada por un Guía Oficial
  de Turismo acreditado.
SUMMARY:Saboreando Santander. Tour Cultural Gastronómico
END:VEVENT
BEGIN:VEVENT
DTSTAMP:20260424T163104Z
UID:event-8739-2023-12-16T19:30:00+01:00-none
DTSTART;TZID=Europe/Madrid:20231216T193000
DESCRIPTION:Smart Tour Santander lanza el tour cultural gastronómico Sabor
 eando Santander\, una visita guiada a pie acompañada por un Guía Oficial
  de Turismo acreditado.
SUMMARY:Saboreando Santander. Tour Cultural Gastronómico
END:VEVENT
BEGIN:VEVENT
DTSTAMP:20260424T163104Z
UID:event-8739-2023-12-22T19:30:00+01:00-none
DTSTART;TZID=Europe/Madrid:20231222T193000
DESCRIPTION:Smart Tour Santander lanza el tour cultural gastronómico Sabor
 eando Santander\, una visita guiada a pie acompañada por un Guía Oficial
  de Turismo acreditado.
SUMMARY:Saboreando Santander. Tour Cultural Gastronómico
END:VEVENT
BEGIN:VEVENT
DTSTAMP:20260424T163104Z
UID:event-8739-2023-12-23T19:30:00+01:00-none
DTSTART;TZID=Europe/Madrid:20231223T193000
DESCRIPTION:Smart Tour Santander lanza el tour cultural gastronómico Sabor
 eando Santander\, una visita guiada a pie acompañada por un Guía Oficial
  de Turismo acreditado.
SUMMARY:Saboreando Santander. Tour Cultural Gastronómico
END:VEVENT
BEGIN:VEVENT
DTSTAMP:20260424T163104Z
UID:event-8739-2023-12-29T19:30:00+01:00-none
DTSTART;TZID=Europe/Madrid:20231229T193000
DESCRIPTION:Smart Tour Santander lanza el tour cultural gastronómico Sabor
 eando Santander\, una visita guiada a pie acompañada por un Guía Oficial
  de Turismo acreditado.
SUMMARY:Saboreando Santander. Tour Cultural Gastronómico
END:VEVENT
BEGIN:VEVENT
DTSTAMP:20260424T163104Z
UID:event-8739-2023-12-30T19:30:00+01:00-none
DTSTART;TZID=Europe/Madrid:20231230T193000
DESCRIPTION:Smart Tour Santander lanza el tour cultural gastronómico Sabor
 eando Santander\, una visita guiada a pie acompañada por un Guía Oficial
  de Turismo acreditado.
SUMMARY:Saboreando Santander. Tour Cultural Gastronómico
END:VEVENT
BEGIN:VEVENT
DTSTAMP:20260424T163104Z
UID:event-8739-2024-01-05T19:30:00+01:00-none
DTSTART;TZID=Europe/Madrid:20240105T193000
DESCRIPTION:Smart Tour Santander lanza el tour cultural gastronómico Sabor
 eando Santander\, una visita guiada a pie acompañada por un Guía Oficial
  de Turismo acreditado.
SUMMARY:Saboreando Santander. Tour Cultural Gastronómico
END:VEVENT
BEGIN:VEVENT
DTSTAMP:20260424T163104Z
UID:event-8739-2024-01-06T19:30:00+01:00-none
DTSTART;TZID=Europe/Madrid:20240106T193000
DESCRIPTION:Smart Tour Santander lanza el tour cultural gastronómico Sabor
 eando Santander\, una visita guiada a pie acompañada por un Guía Oficial
  de Turismo acreditado.
SUMMARY:Saboreando Santander. Tour Cultural Gastronómico
END:VEVENT
BEGIN:VEVENT
DTSTAMP:20260424T163104Z
UID:event-8739-2024-01-12T19:30:00+01:00-none
DTSTART;TZID=Europe/Madrid:20240112T193000
DESCRIPTION:Smart Tour Santander lanza el tour cultural gastronómico Sabor
 eando Santander\, una visita guiada a pie acompañada por un Guía Oficial
  de Turismo acreditado.
SUMMARY:Saboreando Santander. Tour Cultural Gastronómico
END:VEVENT
BEGIN:VEVENT
DTSTAMP:20260424T163104Z
UID:event-8739-2024-01-13T19:30:00+01:00-none
DTSTART;TZID=Europe/Madrid:20240113T193000
DESCRIPTION:Smart Tour Santander lanza el tour cultural gastronómico Sabor
 eando Santander\, una visita guiada a pie acompañada por un Guía Oficial
  de Turismo acreditado.
SUMMARY:Saboreando Santander. Tour Cultural Gastronómico
END:VEVENT
BEGIN:VEVENT
DTSTAMP:20260424T163104Z
UID:event-8739-2024-01-19T19:30:00+01:00-none
DTSTART;TZID=Europe/Madrid:20240119T193000
DESCRIPTION:Smart Tour Santander lanza el tour cultural gastronómico Sabor
 eando Santander\, una visita guiada a pie acompañada por un Guía Oficial
  de Turismo acreditado.
SUMMARY:Saboreando Santander. Tour Cultural Gastronómico
END:VEVENT
BEGIN:VEVENT
DTSTAMP:20260424T163104Z
UID:event-8739-2024-01-20T19:30:00+01:00-none
DTSTART;TZID=Europe/Madrid:20240120T193000
DESCRIPTION:Smart Tour Santander lanza el tour cultural gastronómico Sabor
 eando Santander\, una visita guiada a pie acompañada por un Guía Oficial
  de Turismo acreditado.
SUMMARY:Saboreando Santander. Tour Cultural Gastronómico
END:VEVENT
BEGIN:VEVENT
DTSTAMP:20260424T163104Z
UID:event-8739-2024-01-26T19:30:00+01:00-none
DTSTART;TZID=Europe/Madrid:20240126T193000
DESCRIPTION:Smart Tour Santander lanza el tour cultural gastronómico Sabor
 eando Santander\, una visita guiada a pie acompañada por un Guía Oficial
  de Turismo acreditado.
SUMMARY:Saboreando Santander. Tour Cultural Gastronómico
END:VEVENT
BEGIN:VEVENT
DTSTAMP:20260424T163104Z
UID:event-8739-2024-01-27T19:30:00+01:00-none
DTSTART;TZID=Europe/Madrid:20240127T193000
DESCRIPTION:Smart Tour Santander lanza el tour cultural gastronómico Sabor
 eando Santander\, una visita guiada a pie acompañada por un Guía Oficial
  de Turismo acreditado.
SUMMARY:Saboreando Santander. Tour Cultural Gastronómico
END:VEVENT
END:VCALENDAR
