BEGIN:VCALENDAR
VERSION:2.0
PRODID:icalendar-ruby
CALSCALE:GREGORIAN
METHOD:PUBLISH
BEGIN:VEVENT
DTSTAMP:20260425T164227Z
UID:event-9285-2024-01-20T12:30:00+01:00-none
DTSTART;TZID=Europe/Madrid:20240120T123000
DESCRIPTION:El cuento habla sobre el respeto\, la convivencia y la empatía
 . Y de cómo todos nacemos con dones que debemos aprender a utilizar para 
 crear una sociedad más amable para todos.
SUMMARY:Cuentacuentos: "Monstruo azul" de Olga de Dios
END:VEVENT
END:VCALENDAR
