BEGIN:VCALENDAR
VERSION:2.0
PRODID:icalendar-ruby
CALSCALE:GREGORIAN
METHOD:PUBLISH
BEGIN:VEVENT
DTSTAMP:20260419T125833Z
UID:event-9345-2024-06-01T19:30:00+02:00-none
DTSTART;TZID=Europe/Madrid:20240601T193000
DESCRIPTION:Jean-Christophe Maillot ofrece una meditación conmovedora sobr
 e la forma en que las personas que desaparecen dan forma al futuro de los 
 que quedan atrás.
SUMMARY:Les Ballets de Monte-Carlo. "Cenicienta"
END:VEVENT
END:VCALENDAR
