BEGIN:VCALENDAR
VERSION:2.0
PRODID:icalendar-ruby
CALSCALE:GREGORIAN
METHOD:PUBLISH
BEGIN:VEVENT
DTSTAMP:20260419T125833Z
UID:event-9909-2024-03-01T11:00:00+01:00-2024-03-01T20:00:00+01:00
DTSTART;TZID=Europe/Madrid:20240301T110000
DTEND;TZID=Europe/Madrid:20240301T200000
DESCRIPTION:Del viernes 1 al domingo 3 de marzo tendrá lugar la segunda Fe
 ria Coral Ciudad de Santander organizada por la Federación de Coros de Ca
 ntabria y el Ayuntamiento de Santander.
SUMMARY:II Feria Coral Ciudad de Santander
END:VEVENT
BEGIN:VEVENT
DTSTAMP:20260419T125833Z
UID:event-9909-2024-03-02T11:00:00+01:00-2024-03-02T20:00:00+01:00
DTSTART;TZID=Europe/Madrid:20240302T110000
DTEND;TZID=Europe/Madrid:20240302T200000
DESCRIPTION:Del viernes 1 al domingo 3 de marzo tendrá lugar la segunda Fe
 ria Coral Ciudad de Santander organizada por la Federación de Coros de Ca
 ntabria y el Ayuntamiento de Santander.
SUMMARY:II Feria Coral Ciudad de Santander
END:VEVENT
BEGIN:VEVENT
DTSTAMP:20260419T125833Z
UID:event-9909-2024-03-03T11:00:00+01:00-2024-03-03T14:00:00+01:00
DTSTART;TZID=Europe/Madrid:20240303T110000
DTEND;TZID=Europe/Madrid:20240303T140000
DESCRIPTION:Del viernes 1 al domingo 3 de marzo tendrá lugar la segunda Fe
 ria Coral Ciudad de Santander organizada por la Federación de Coros de Ca
 ntabria y el Ayuntamiento de Santander.
SUMMARY:II Feria Coral Ciudad de Santander
END:VEVENT
END:VCALENDAR
