BEGIN:VCALENDAR
VERSION:2.0
PRODID:icalendar-ruby
CALSCALE:GREGORIAN
METHOD:PUBLISH
BEGIN:VEVENT
DTSTAMP:20260424T162146Z
UID:event-9987-2024-03-22T22:30:00+01:00-none
DTSTART;TZID=Europe/Madrid:20240322T223000
DESCRIPTION:Aliss es un compositor y productor que a día de hoy ha recopil
 ado cientos de miles de reproducciones en plataformas\, con un repertorio 
 musical 'indie' y conciertos que cautivan por su naturaleza divertida.
SUMMARY:El artista boliviano Aliss se estrena en el Bar Bolero
END:VEVENT
END:VCALENDAR
