BEGIN:VCALENDAR
VERSION:2.0
PRODID:icalendar-ruby
CALSCALE:GREGORIAN
METHOD:PUBLISH
BEGIN:VEVENT
DTSTAMP:20260424T164144Z
UID:event-9994-2024-03-20T18:00:00+01:00-none
DTSTART;TZID=Europe/Madrid:20240320T180000
DESCRIPTION:En un elitista y estricto colegio privado de Nueva Inglaterra\,
  un grupo de alumnos descubrirá la poesía\, el significado del "carpe di
 em" y la importancia vital de luchar por alcanzar los sueños\, gracias al
  Sr. Keating.
SUMMARY:Cine y poesía: "El club de los poetas muertos"\, de Peter Weir
END:VEVENT
END:VCALENDAR
