BEGIN:VCALENDAR
VERSION:2.0
PRODID:icalendar-ruby
CALSCALE:GREGORIAN
METHOD:PUBLISH
BEGIN:VEVENT
DTSTAMP:20260421T164403Z
UID:event-10853-2024-05-03T21:30:00+02:00-none
DTSTART;TZID=Europe/Madrid:20240503T213000
DESCRIPTION:En 2013 comenzó este proyecto de power-trío instrumental que 
 permanece hasta día de hoy con la misma filosofía\, abierto a todo tipo 
 de influencias tanto rock\, metal\, etc. como electrónica\, indie\, shoeg
 aze…
SUMMARY:A Nice Day for an Earthquake
END:VEVENT
END:VCALENDAR
