BEGIN:VCALENDAR
VERSION:2.0
PRODID:icalendar-ruby
CALSCALE:GREGORIAN
METHOD:PUBLISH
BEGIN:VEVENT
DTSTAMP:20260421T165324Z
UID:event-15673-2025-03-19T21:40:00+01:00-none
DTSTART;TZID=Europe/Madrid:20250319T214000
DESCRIPTION:Benji (Kieran Culkin) y David Kaplan (Jesse Eisenberg) son dos 
 primos que contratan un tour por Polonia\, con el objetivo de visitar los 
 lugares en los que creció la abuela fallecida de ambos\, y donde esta suf
 rió el genocidio nazi.
SUMMARY:"A real pain"\, de Jesse Eisenberg (V.O.S.E.)
END:VEVENT
BEGIN:VEVENT
DTSTAMP:20260421T165324Z
UID:event-15673-2025-03-21T21:45:00+01:00-none
DTSTART;TZID=Europe/Madrid:20250321T214500
DESCRIPTION:Benji (Kieran Culkin) y David Kaplan (Jesse Eisenberg) son dos 
 primos que contratan un tour por Polonia\, con el objetivo de visitar los 
 lugares en los que creció la abuela fallecida de ambos\, y donde esta suf
 rió el genocidio nazi.
SUMMARY:"A real pain"\, de Jesse Eisenberg (V.O.S.E.)
END:VEVENT
END:VCALENDAR
