BEGIN:VCALENDAR
VERSION:2.0
PRODID:icalendar-ruby
CALSCALE:GREGORIAN
METHOD:PUBLISH
BEGIN:VEVENT
DTSTAMP:20260423T113942Z
UID:event-22429-2026-04-23T18:00:00+02:00-none
DTSTART;TZID=Europe/Madrid:20260423T180000
DESCRIPTION:Esta actuación\, que fusiona música y palabra acompañará a 
 las firmas de libros que se realizarán en el pasillo exterior de la libre
 ría\, situada en la primera planta de nuestro centro.
SUMMARY:Actuación musical de Jazztwoman con Ruth Gómez 
END:VEVENT
END:VCALENDAR
