BEGIN:VCALENDAR
VERSION:2.0
PRODID:icalendar-ruby
CALSCALE:GREGORIAN
METHOD:PUBLISH
BEGIN:VEVENT
DTSTAMP:20260420T144110Z
UID:event-4594-2023-01-18T20:00:00+01:00-none
DTSTART;TZID=Europe/Madrid:20230118T200000
DESCRIPTION:Sophie reflexiona sobre la alegría compartida y la melancolía
  privada de unas vacaciones que hizo con su padre (Paul Mescal) 20 años a
 trás.
SUMMARY:"Aftersun"\, de Charlotte Wells (V.O.S.)
END:VEVENT
BEGIN:VEVENT
DTSTAMP:20260420T144110Z
UID:event-4594-2023-01-19T17:00:00+01:00-none
DTSTART;TZID=Europe/Madrid:20230119T170000
DESCRIPTION:Sophie reflexiona sobre la alegría compartida y la melancolía
  privada de unas vacaciones que hizo con su padre (Paul Mescal) 20 años a
 trás.
SUMMARY:"Aftersun"\, de Charlotte Wells (V.O.S.)
END:VEVENT
BEGIN:VEVENT
DTSTAMP:20260420T144110Z
UID:event-4594-2023-01-19T22:10:00+01:00-none
DTSTART;TZID=Europe/Madrid:20230119T221000
DESCRIPTION:Sophie reflexiona sobre la alegría compartida y la melancolía
  privada de unas vacaciones que hizo con su padre (Paul Mescal) 20 años a
 trás.
SUMMARY:"Aftersun"\, de Charlotte Wells (V.O.S.)
END:VEVENT
BEGIN:VEVENT
DTSTAMP:20260420T144110Z
UID:event-4594-2023-01-20T20:00:00+01:00-none
DTSTART;TZID=Europe/Madrid:20230120T200000
DESCRIPTION:Sophie reflexiona sobre la alegría compartida y la melancolía
  privada de unas vacaciones que hizo con su padre (Paul Mescal) 20 años a
 trás.
SUMMARY:"Aftersun"\, de Charlotte Wells (V.O.S.)
END:VEVENT
BEGIN:VEVENT
DTSTAMP:20260420T144110Z
UID:event-4594-2023-01-21T17:00:00+01:00-none
DTSTART;TZID=Europe/Madrid:20230121T170000
DESCRIPTION:Sophie reflexiona sobre la alegría compartida y la melancolía
  privada de unas vacaciones que hizo con su padre (Paul Mescal) 20 años a
 trás.
SUMMARY:"Aftersun"\, de Charlotte Wells (V.O.S.)
END:VEVENT
BEGIN:VEVENT
DTSTAMP:20260420T144110Z
UID:event-4594-2023-01-21T22:10:00+01:00-none
DTSTART;TZID=Europe/Madrid:20230121T221000
DESCRIPTION:Sophie reflexiona sobre la alegría compartida y la melancolía
  privada de unas vacaciones que hizo con su padre (Paul Mescal) 20 años a
 trás.
SUMMARY:"Aftersun"\, de Charlotte Wells (V.O.S.)
END:VEVENT
BEGIN:VEVENT
DTSTAMP:20260420T144110Z
UID:event-4594-2023-01-22T20:00:00+01:00-none
DTSTART;TZID=Europe/Madrid:20230122T200000
DESCRIPTION:Sophie reflexiona sobre la alegría compartida y la melancolía
  privada de unas vacaciones que hizo con su padre (Paul Mescal) 20 años a
 trás.
SUMMARY:"Aftersun"\, de Charlotte Wells (V.O.S.)
END:VEVENT
BEGIN:VEVENT
DTSTAMP:20260420T144110Z
UID:event-4594-2023-01-22T21:50:00+01:00-none
DTSTART;TZID=Europe/Madrid:20230122T215000
DESCRIPTION:Sophie reflexiona sobre la alegría compartida y la melancolía
  privada de unas vacaciones que hizo con su padre (Paul Mescal) 20 años a
 trás.
SUMMARY:"Aftersun"\, de Charlotte Wells (V.O.S.)
END:VEVENT
END:VCALENDAR
