BEGIN:VCALENDAR
VERSION:2.0
PRODID:icalendar-ruby
CALSCALE:GREGORIAN
METHOD:PUBLISH
BEGIN:VEVENT
DTSTAMP:20260421T164411Z
UID:event-19146-2025-10-21T19:00:00+02:00-none
DTSTART;TZID=Europe/Madrid:20251021T190000
DESCRIPTION:“De las cosas pálidas” puede leerse como un catálogo de l
 o azaroso\, como un mapa sin centro o quizá como un bodegón de cosas per
 didas.
SUMMARY:Alberto Santamaría presenta "De las cosas pálidas"
END:VEVENT
END:VCALENDAR
