BEGIN:VCALENDAR
VERSION:2.0
PRODID:icalendar-ruby
CALSCALE:GREGORIAN
METHOD:PUBLISH
BEGIN:VEVENT
DTSTAMP:20260423T160904Z
UID:event-7786-2023-10-03T18:00:00+02:00-none
DTSTART;TZID=Europe/Madrid:20231003T180000
DESCRIPTION:Italia\, años 30. Crónica de la vida cotidiana en un pueblo d
 el norte de Italia durante el fascismo. (FILMAFFINITY)
SUMMARY:"Amarcord"\, de Federico Fellini
END:VEVENT
END:VCALENDAR
