BEGIN:VCALENDAR
VERSION:2.0
PRODID:icalendar-ruby
CALSCALE:GREGORIAN
METHOD:PUBLISH
BEGIN:VEVENT
DTSTAMP:20260421T164708Z
UID:event-1012-2022-04-05-2022-04-05
DTSTART;VALUE=DATE:20220405
DTEND;VALUE=DATE:20220405
DESCRIPTION:Susan Morrow es una galerista afincada en Los Ángeles que comp
 arte una vida llena de lujos\, aunque vacía\, con Hutton Morrow\, su segu
 ndo marido. Un día Susan recibe una novela escrita por su exmarido Edward
  Sheffield.
SUMMARY:"Animales nocturnos"\, de Tom Ford
END:VEVENT
END:VCALENDAR
