BEGIN:VCALENDAR
VERSION:2.0
PRODID:icalendar-ruby
CALSCALE:GREGORIAN
METHOD:PUBLISH
BEGIN:VEVENT
DTSTAMP:20260423T154753Z
UID:event-22366-2026-04-24T19:00:00+02:00-none
DTSTART;TZID=Europe/Madrid:20260424T190000
DESCRIPTION:A partir de una profunda investigación en las fuentes la autor
 a propone una travesía visual siguiendo las huellas de los esclavistas de
 sde Cádiz o Barcelona a Ghana o Sierra Leona\, con destino final en Cuba.
SUMMARY:“Aquella niebla\, este silencio. El legado esclavista que elegimo
 s ocultar”\, con la fotoperiodista Judith Prat
END:VEVENT
END:VCALENDAR
