BEGIN:VCALENDAR
VERSION:2.0
PRODID:icalendar-ruby
CALSCALE:GREGORIAN
METHOD:PUBLISH
BEGIN:VEVENT
DTSTAMP:20260423T101611Z
UID:event-14737-2025-01-17T19:00:00+01:00-none
DTSTART;TZID=Europe/Madrid:20250117T190000
DESCRIPTION:De la mano de Joxemari\, dueño y alma del bar\, nos sumergirem
 os en su discurrir habitual y seremos testigos privilegiados de lo que all
 í sucede desde la apertura hasta el cierre. 
SUMMARY:Asier Iturralde presenta el libro "Un día en Beti Berdin Taberna"
END:VEVENT
END:VCALENDAR
