BEGIN:VCALENDAR
VERSION:2.0
PRODID:icalendar-ruby
CALSCALE:GREGORIAN
METHOD:PUBLISH
BEGIN:VEVENT
DTSTAMP:20260422T094228Z
UID:event-20613-2026-02-25T19:30:00+01:00-none
DTSTART;TZID=Europe/Madrid:20260225T193000
DESCRIPTION:"Computación Cuántica y Criptografía: ¡malas noticias\, per
 o también buenas!\, a cargo de Ana Isabel González-Tablas Ferreres\, Uni
 versidad Carlos III de Madrid.
SUMMARY:AteneAs: "Computación Cuántica y Criptografía: ¡malas noticias\
 , pero también buenas!"
END:VEVENT
END:VCALENDAR
