BEGIN:VCALENDAR
VERSION:2.0
PRODID:icalendar-ruby
CALSCALE:GREGORIAN
METHOD:PUBLISH
BEGIN:VEVENT
DTSTAMP:20260423T154855Z
UID:event-134-2022-05-15T21:00:00+02:00-2022-05-15T23:00:00+02:00
DTSTART;TZID=Europe/Madrid:20220515T210000
DTEND;TZID=Europe/Madrid:20220515T230000
DESCRIPTION:Ayax vuelve sobre los escenarios en solitario para presentar su
  nuevo álbum\, "JuglarDelSigloXXI".
SUMMARY:Ayax presenta "JuglarDelSigloXXI"
END:VEVENT
END:VCALENDAR
