BEGIN:VCALENDAR
VERSION:2.0
PRODID:icalendar-ruby
CALSCALE:GREGORIAN
METHOD:PUBLISH
BEGIN:VEVENT
DTSTAMP:20260423T160400Z
UID:event-10833-2024-05-10T19:00:00+02:00-2024-05-10T20:30:00+02:00
DTSTART;TZID=Europe/Madrid:20240510T190000
DTEND;TZID=Europe/Madrid:20240510T203000
DESCRIPTION:En esta nueva edición del Foro Santander Capital Natural conta
 rán con Lourdes Berzas\, psicóloga ambiental\, ilustradora y muralista\,
  que hablará de cómo el arte puede transformar los espacios y a las pers
 onas.
SUMMARY:"Biodiversidad en las paredes. Cuando la psicología ambiental y el
  arte se juntan"\, charla
END:VEVENT
END:VCALENDAR
