BEGIN:VCALENDAR
VERSION:2.0
PRODID:icalendar-ruby
CALSCALE:GREGORIAN
METHOD:PUBLISH
BEGIN:VEVENT
DTSTAMP:20260423T154855Z
UID:event-14602-2025-01-18T20:00:00+01:00-none
DTSTART;TZID=Europe/Madrid:20250118T200000
DESCRIPTION:En la época de la Gran Depresión\, una banda de jóvenes deli
 ncuentes\, encabezados por la pareja formada por Bonnie Parker y Clyde Bar
 row\, recorre los Estados Unidos asaltando bancos.
SUMMARY:"Bonnie & Clyde"\, de Arthur Penn (V.O.S.E.)
END:VEVENT
BEGIN:VEVENT
DTSTAMP:20260423T154855Z
UID:event-14602-2025-01-22T20:00:00+01:00-none
DTSTART;TZID=Europe/Madrid:20250122T200000
DESCRIPTION:En la época de la Gran Depresión\, una banda de jóvenes deli
 ncuentes\, encabezados por la pareja formada por Bonnie Parker y Clyde Bar
 row\, recorre los Estados Unidos asaltando bancos.
SUMMARY:"Bonnie & Clyde"\, de Arthur Penn (V.O.S.E.)
END:VEVENT
END:VCALENDAR
