BEGIN:VCALENDAR
VERSION:2.0
PRODID:icalendar-ruby
CALSCALE:GREGORIAN
METHOD:PUBLISH
BEGIN:VEVENT
DTSTAMP:20260421T234511Z
UID:event-2071-2022-07-11T10:00:00+02:00-2022-07-11T18:00:00+02:00
DTSTART;TZID=Europe/Madrid:20220711T100000
DTEND;TZID=Europe/Madrid:20220711T180000
DESCRIPTION:El Ayuntamiento de Santander presenta una nueva edición de Ver
 ano Teenager que en esta ocasión ofrecerá siete campamentos urbanos sema
 nales dirigidos a cubrir el tiempo de ocio de adolescentes y jóvenes de l
 a ciudad durante las vacaciones.
SUMMARY:Campamentos urbanos juveniles "Verano Teenager"
END:VEVENT
BEGIN:VEVENT
DTSTAMP:20260421T234511Z
UID:event-2071-2022-07-12T10:00:00+02:00-2022-07-12T18:00:00+02:00
DTSTART;TZID=Europe/Madrid:20220712T100000
DTEND;TZID=Europe/Madrid:20220712T180000
DESCRIPTION:El Ayuntamiento de Santander presenta una nueva edición de Ver
 ano Teenager que en esta ocasión ofrecerá siete campamentos urbanos sema
 nales dirigidos a cubrir el tiempo de ocio de adolescentes y jóvenes de l
 a ciudad durante las vacaciones.
SUMMARY:Campamentos urbanos juveniles "Verano Teenager"
END:VEVENT
BEGIN:VEVENT
DTSTAMP:20260421T234511Z
UID:event-2071-2022-07-13T10:00:00+02:00-2022-07-13T18:00:00+02:00
DTSTART;TZID=Europe/Madrid:20220713T100000
DTEND;TZID=Europe/Madrid:20220713T180000
DESCRIPTION:El Ayuntamiento de Santander presenta una nueva edición de Ver
 ano Teenager que en esta ocasión ofrecerá siete campamentos urbanos sema
 nales dirigidos a cubrir el tiempo de ocio de adolescentes y jóvenes de l
 a ciudad durante las vacaciones.
SUMMARY:Campamentos urbanos juveniles "Verano Teenager"
END:VEVENT
BEGIN:VEVENT
DTSTAMP:20260421T234511Z
UID:event-2071-2022-07-14T10:00:00+02:00-2022-07-14T18:00:00+02:00
DTSTART;TZID=Europe/Madrid:20220714T100000
DTEND;TZID=Europe/Madrid:20220714T180000
DESCRIPTION:El Ayuntamiento de Santander presenta una nueva edición de Ver
 ano Teenager que en esta ocasión ofrecerá siete campamentos urbanos sema
 nales dirigidos a cubrir el tiempo de ocio de adolescentes y jóvenes de l
 a ciudad durante las vacaciones.
SUMMARY:Campamentos urbanos juveniles "Verano Teenager"
END:VEVENT
BEGIN:VEVENT
DTSTAMP:20260421T234511Z
UID:event-2071-2022-07-15T10:00:00+02:00-2022-07-15T18:00:00+02:00
DTSTART;TZID=Europe/Madrid:20220715T100000
DTEND;TZID=Europe/Madrid:20220715T180000
DESCRIPTION:El Ayuntamiento de Santander presenta una nueva edición de Ver
 ano Teenager que en esta ocasión ofrecerá siete campamentos urbanos sema
 nales dirigidos a cubrir el tiempo de ocio de adolescentes y jóvenes de l
 a ciudad durante las vacaciones.
SUMMARY:Campamentos urbanos juveniles "Verano Teenager"
END:VEVENT
BEGIN:VEVENT
DTSTAMP:20260421T234511Z
UID:event-2071-2022-07-16T10:00:00+02:00-2022-07-16T18:00:00+02:00
DTSTART;TZID=Europe/Madrid:20220716T100000
DTEND;TZID=Europe/Madrid:20220716T180000
DESCRIPTION:El Ayuntamiento de Santander presenta una nueva edición de Ver
 ano Teenager que en esta ocasión ofrecerá siete campamentos urbanos sema
 nales dirigidos a cubrir el tiempo de ocio de adolescentes y jóvenes de l
 a ciudad durante las vacaciones.
SUMMARY:Campamentos urbanos juveniles "Verano Teenager"
END:VEVENT
BEGIN:VEVENT
DTSTAMP:20260421T234511Z
UID:event-2071-2022-07-17T10:00:00+02:00-2022-07-17T18:00:00+02:00
DTSTART;TZID=Europe/Madrid:20220717T100000
DTEND;TZID=Europe/Madrid:20220717T180000
DESCRIPTION:El Ayuntamiento de Santander presenta una nueva edición de Ver
 ano Teenager que en esta ocasión ofrecerá siete campamentos urbanos sema
 nales dirigidos a cubrir el tiempo de ocio de adolescentes y jóvenes de l
 a ciudad durante las vacaciones.
SUMMARY:Campamentos urbanos juveniles "Verano Teenager"
END:VEVENT
BEGIN:VEVENT
DTSTAMP:20260421T234511Z
UID:event-2071-2022-07-18T10:00:00+02:00-2022-07-18T18:00:00+02:00
DTSTART;TZID=Europe/Madrid:20220718T100000
DTEND;TZID=Europe/Madrid:20220718T180000
DESCRIPTION:El Ayuntamiento de Santander presenta una nueva edición de Ver
 ano Teenager que en esta ocasión ofrecerá siete campamentos urbanos sema
 nales dirigidos a cubrir el tiempo de ocio de adolescentes y jóvenes de l
 a ciudad durante las vacaciones.
SUMMARY:Campamentos urbanos juveniles "Verano Teenager"
END:VEVENT
BEGIN:VEVENT
DTSTAMP:20260421T234511Z
UID:event-2071-2022-07-19T10:00:00+02:00-2022-07-19T18:00:00+02:00
DTSTART;TZID=Europe/Madrid:20220719T100000
DTEND;TZID=Europe/Madrid:20220719T180000
DESCRIPTION:El Ayuntamiento de Santander presenta una nueva edición de Ver
 ano Teenager que en esta ocasión ofrecerá siete campamentos urbanos sema
 nales dirigidos a cubrir el tiempo de ocio de adolescentes y jóvenes de l
 a ciudad durante las vacaciones.
SUMMARY:Campamentos urbanos juveniles "Verano Teenager"
END:VEVENT
BEGIN:VEVENT
DTSTAMP:20260421T234511Z
UID:event-2071-2022-07-20T10:00:00+02:00-2022-07-20T18:00:00+02:00
DTSTART;TZID=Europe/Madrid:20220720T100000
DTEND;TZID=Europe/Madrid:20220720T180000
DESCRIPTION:El Ayuntamiento de Santander presenta una nueva edición de Ver
 ano Teenager que en esta ocasión ofrecerá siete campamentos urbanos sema
 nales dirigidos a cubrir el tiempo de ocio de adolescentes y jóvenes de l
 a ciudad durante las vacaciones.
SUMMARY:Campamentos urbanos juveniles "Verano Teenager"
END:VEVENT
BEGIN:VEVENT
DTSTAMP:20260421T234511Z
UID:event-2071-2022-07-21T10:00:00+02:00-2022-07-21T18:00:00+02:00
DTSTART;TZID=Europe/Madrid:20220721T100000
DTEND;TZID=Europe/Madrid:20220721T180000
DESCRIPTION:El Ayuntamiento de Santander presenta una nueva edición de Ver
 ano Teenager que en esta ocasión ofrecerá siete campamentos urbanos sema
 nales dirigidos a cubrir el tiempo de ocio de adolescentes y jóvenes de l
 a ciudad durante las vacaciones.
SUMMARY:Campamentos urbanos juveniles "Verano Teenager"
END:VEVENT
BEGIN:VEVENT
DTSTAMP:20260421T234511Z
UID:event-2071-2022-07-22T10:00:00+02:00-2022-07-22T18:00:00+02:00
DTSTART;TZID=Europe/Madrid:20220722T100000
DTEND;TZID=Europe/Madrid:20220722T180000
DESCRIPTION:El Ayuntamiento de Santander presenta una nueva edición de Ver
 ano Teenager que en esta ocasión ofrecerá siete campamentos urbanos sema
 nales dirigidos a cubrir el tiempo de ocio de adolescentes y jóvenes de l
 a ciudad durante las vacaciones.
SUMMARY:Campamentos urbanos juveniles "Verano Teenager"
END:VEVENT
BEGIN:VEVENT
DTSTAMP:20260421T234511Z
UID:event-2071-2022-07-23T10:00:00+02:00-2022-07-23T18:00:00+02:00
DTSTART;TZID=Europe/Madrid:20220723T100000
DTEND;TZID=Europe/Madrid:20220723T180000
DESCRIPTION:El Ayuntamiento de Santander presenta una nueva edición de Ver
 ano Teenager que en esta ocasión ofrecerá siete campamentos urbanos sema
 nales dirigidos a cubrir el tiempo de ocio de adolescentes y jóvenes de l
 a ciudad durante las vacaciones.
SUMMARY:Campamentos urbanos juveniles "Verano Teenager"
END:VEVENT
BEGIN:VEVENT
DTSTAMP:20260421T234511Z
UID:event-2071-2022-07-24T10:00:00+02:00-2022-07-24T18:00:00+02:00
DTSTART;TZID=Europe/Madrid:20220724T100000
DTEND;TZID=Europe/Madrid:20220724T180000
DESCRIPTION:El Ayuntamiento de Santander presenta una nueva edición de Ver
 ano Teenager que en esta ocasión ofrecerá siete campamentos urbanos sema
 nales dirigidos a cubrir el tiempo de ocio de adolescentes y jóvenes de l
 a ciudad durante las vacaciones.
SUMMARY:Campamentos urbanos juveniles "Verano Teenager"
END:VEVENT
BEGIN:VEVENT
DTSTAMP:20260421T234511Z
UID:event-2071-2022-07-25T10:00:00+02:00-2022-07-25T18:00:00+02:00
DTSTART;TZID=Europe/Madrid:20220725T100000
DTEND;TZID=Europe/Madrid:20220725T180000
DESCRIPTION:El Ayuntamiento de Santander presenta una nueva edición de Ver
 ano Teenager que en esta ocasión ofrecerá siete campamentos urbanos sema
 nales dirigidos a cubrir el tiempo de ocio de adolescentes y jóvenes de l
 a ciudad durante las vacaciones.
SUMMARY:Campamentos urbanos juveniles "Verano Teenager"
END:VEVENT
BEGIN:VEVENT
DTSTAMP:20260421T234511Z
UID:event-2071-2022-07-26T10:00:00+02:00-2022-07-26T18:00:00+02:00
DTSTART;TZID=Europe/Madrid:20220726T100000
DTEND;TZID=Europe/Madrid:20220726T180000
DESCRIPTION:El Ayuntamiento de Santander presenta una nueva edición de Ver
 ano Teenager que en esta ocasión ofrecerá siete campamentos urbanos sema
 nales dirigidos a cubrir el tiempo de ocio de adolescentes y jóvenes de l
 a ciudad durante las vacaciones.
SUMMARY:Campamentos urbanos juveniles "Verano Teenager"
END:VEVENT
BEGIN:VEVENT
DTSTAMP:20260421T234511Z
UID:event-2071-2022-07-27T10:00:00+02:00-2022-07-27T18:00:00+02:00
DTSTART;TZID=Europe/Madrid:20220727T100000
DTEND;TZID=Europe/Madrid:20220727T180000
DESCRIPTION:El Ayuntamiento de Santander presenta una nueva edición de Ver
 ano Teenager que en esta ocasión ofrecerá siete campamentos urbanos sema
 nales dirigidos a cubrir el tiempo de ocio de adolescentes y jóvenes de l
 a ciudad durante las vacaciones.
SUMMARY:Campamentos urbanos juveniles "Verano Teenager"
END:VEVENT
BEGIN:VEVENT
DTSTAMP:20260421T234511Z
UID:event-2071-2022-07-28T10:00:00+02:00-2022-07-28T18:00:00+02:00
DTSTART;TZID=Europe/Madrid:20220728T100000
DTEND;TZID=Europe/Madrid:20220728T180000
DESCRIPTION:El Ayuntamiento de Santander presenta una nueva edición de Ver
 ano Teenager que en esta ocasión ofrecerá siete campamentos urbanos sema
 nales dirigidos a cubrir el tiempo de ocio de adolescentes y jóvenes de l
 a ciudad durante las vacaciones.
SUMMARY:Campamentos urbanos juveniles "Verano Teenager"
END:VEVENT
BEGIN:VEVENT
DTSTAMP:20260421T234511Z
UID:event-2071-2022-07-29T10:00:00+02:00-2022-07-29T18:00:00+02:00
DTSTART;TZID=Europe/Madrid:20220729T100000
DTEND;TZID=Europe/Madrid:20220729T180000
DESCRIPTION:El Ayuntamiento de Santander presenta una nueva edición de Ver
 ano Teenager que en esta ocasión ofrecerá siete campamentos urbanos sema
 nales dirigidos a cubrir el tiempo de ocio de adolescentes y jóvenes de l
 a ciudad durante las vacaciones.
SUMMARY:Campamentos urbanos juveniles "Verano Teenager"
END:VEVENT
BEGIN:VEVENT
DTSTAMP:20260421T234511Z
UID:event-2071-2022-07-30T10:00:00+02:00-2022-07-30T18:00:00+02:00
DTSTART;TZID=Europe/Madrid:20220730T100000
DTEND;TZID=Europe/Madrid:20220730T180000
DESCRIPTION:El Ayuntamiento de Santander presenta una nueva edición de Ver
 ano Teenager que en esta ocasión ofrecerá siete campamentos urbanos sema
 nales dirigidos a cubrir el tiempo de ocio de adolescentes y jóvenes de l
 a ciudad durante las vacaciones.
SUMMARY:Campamentos urbanos juveniles "Verano Teenager"
END:VEVENT
BEGIN:VEVENT
DTSTAMP:20260421T234511Z
UID:event-2071-2022-07-31T10:00:00+02:00-2022-07-31T18:00:00+02:00
DTSTART;TZID=Europe/Madrid:20220731T100000
DTEND;TZID=Europe/Madrid:20220731T180000
DESCRIPTION:El Ayuntamiento de Santander presenta una nueva edición de Ver
 ano Teenager que en esta ocasión ofrecerá siete campamentos urbanos sema
 nales dirigidos a cubrir el tiempo de ocio de adolescentes y jóvenes de l
 a ciudad durante las vacaciones.
SUMMARY:Campamentos urbanos juveniles "Verano Teenager"
END:VEVENT
BEGIN:VEVENT
DTSTAMP:20260421T234511Z
UID:event-2071-2022-08-01T10:00:00+02:00-2022-08-01T18:00:00+02:00
DTSTART;TZID=Europe/Madrid:20220801T100000
DTEND;TZID=Europe/Madrid:20220801T180000
DESCRIPTION:El Ayuntamiento de Santander presenta una nueva edición de Ver
 ano Teenager que en esta ocasión ofrecerá siete campamentos urbanos sema
 nales dirigidos a cubrir el tiempo de ocio de adolescentes y jóvenes de l
 a ciudad durante las vacaciones.
SUMMARY:Campamentos urbanos juveniles "Verano Teenager"
END:VEVENT
BEGIN:VEVENT
DTSTAMP:20260421T234511Z
UID:event-2071-2022-08-02T10:00:00+02:00-2022-08-02T18:00:00+02:00
DTSTART;TZID=Europe/Madrid:20220802T100000
DTEND;TZID=Europe/Madrid:20220802T180000
DESCRIPTION:El Ayuntamiento de Santander presenta una nueva edición de Ver
 ano Teenager que en esta ocasión ofrecerá siete campamentos urbanos sema
 nales dirigidos a cubrir el tiempo de ocio de adolescentes y jóvenes de l
 a ciudad durante las vacaciones.
SUMMARY:Campamentos urbanos juveniles "Verano Teenager"
END:VEVENT
BEGIN:VEVENT
DTSTAMP:20260421T234511Z
UID:event-2071-2022-08-03T10:00:00+02:00-2022-08-03T18:00:00+02:00
DTSTART;TZID=Europe/Madrid:20220803T100000
DTEND;TZID=Europe/Madrid:20220803T180000
DESCRIPTION:El Ayuntamiento de Santander presenta una nueva edición de Ver
 ano Teenager que en esta ocasión ofrecerá siete campamentos urbanos sema
 nales dirigidos a cubrir el tiempo de ocio de adolescentes y jóvenes de l
 a ciudad durante las vacaciones.
SUMMARY:Campamentos urbanos juveniles "Verano Teenager"
END:VEVENT
BEGIN:VEVENT
DTSTAMP:20260421T234511Z
UID:event-2071-2022-08-04T10:00:00+02:00-2022-08-04T18:00:00+02:00
DTSTART;TZID=Europe/Madrid:20220804T100000
DTEND;TZID=Europe/Madrid:20220804T180000
DESCRIPTION:El Ayuntamiento de Santander presenta una nueva edición de Ver
 ano Teenager que en esta ocasión ofrecerá siete campamentos urbanos sema
 nales dirigidos a cubrir el tiempo de ocio de adolescentes y jóvenes de l
 a ciudad durante las vacaciones.
SUMMARY:Campamentos urbanos juveniles "Verano Teenager"
END:VEVENT
BEGIN:VEVENT
DTSTAMP:20260421T234511Z
UID:event-2071-2022-08-05T10:00:00+02:00-2022-08-05T18:00:00+02:00
DTSTART;TZID=Europe/Madrid:20220805T100000
DTEND;TZID=Europe/Madrid:20220805T180000
DESCRIPTION:El Ayuntamiento de Santander presenta una nueva edición de Ver
 ano Teenager que en esta ocasión ofrecerá siete campamentos urbanos sema
 nales dirigidos a cubrir el tiempo de ocio de adolescentes y jóvenes de l
 a ciudad durante las vacaciones.
SUMMARY:Campamentos urbanos juveniles "Verano Teenager"
END:VEVENT
BEGIN:VEVENT
DTSTAMP:20260421T234511Z
UID:event-2071-2022-08-06T10:00:00+02:00-2022-08-06T18:00:00+02:00
DTSTART;TZID=Europe/Madrid:20220806T100000
DTEND;TZID=Europe/Madrid:20220806T180000
DESCRIPTION:El Ayuntamiento de Santander presenta una nueva edición de Ver
 ano Teenager que en esta ocasión ofrecerá siete campamentos urbanos sema
 nales dirigidos a cubrir el tiempo de ocio de adolescentes y jóvenes de l
 a ciudad durante las vacaciones.
SUMMARY:Campamentos urbanos juveniles "Verano Teenager"
END:VEVENT
BEGIN:VEVENT
DTSTAMP:20260421T234511Z
UID:event-2071-2022-08-07T10:00:00+02:00-2022-08-07T18:00:00+02:00
DTSTART;TZID=Europe/Madrid:20220807T100000
DTEND;TZID=Europe/Madrid:20220807T180000
DESCRIPTION:El Ayuntamiento de Santander presenta una nueva edición de Ver
 ano Teenager que en esta ocasión ofrecerá siete campamentos urbanos sema
 nales dirigidos a cubrir el tiempo de ocio de adolescentes y jóvenes de l
 a ciudad durante las vacaciones.
SUMMARY:Campamentos urbanos juveniles "Verano Teenager"
END:VEVENT
BEGIN:VEVENT
DTSTAMP:20260421T234511Z
UID:event-2071-2022-08-08T10:00:00+02:00-2022-08-08T18:00:00+02:00
DTSTART;TZID=Europe/Madrid:20220808T100000
DTEND;TZID=Europe/Madrid:20220808T180000
DESCRIPTION:El Ayuntamiento de Santander presenta una nueva edición de Ver
 ano Teenager que en esta ocasión ofrecerá siete campamentos urbanos sema
 nales dirigidos a cubrir el tiempo de ocio de adolescentes y jóvenes de l
 a ciudad durante las vacaciones.
SUMMARY:Campamentos urbanos juveniles "Verano Teenager"
END:VEVENT
BEGIN:VEVENT
DTSTAMP:20260421T234511Z
UID:event-2071-2022-08-09T10:00:00+02:00-2022-08-09T18:00:00+02:00
DTSTART;TZID=Europe/Madrid:20220809T100000
DTEND;TZID=Europe/Madrid:20220809T180000
DESCRIPTION:El Ayuntamiento de Santander presenta una nueva edición de Ver
 ano Teenager que en esta ocasión ofrecerá siete campamentos urbanos sema
 nales dirigidos a cubrir el tiempo de ocio de adolescentes y jóvenes de l
 a ciudad durante las vacaciones.
SUMMARY:Campamentos urbanos juveniles "Verano Teenager"
END:VEVENT
BEGIN:VEVENT
DTSTAMP:20260421T234511Z
UID:event-2071-2022-08-10T10:00:00+02:00-2022-08-10T18:00:00+02:00
DTSTART;TZID=Europe/Madrid:20220810T100000
DTEND;TZID=Europe/Madrid:20220810T180000
DESCRIPTION:El Ayuntamiento de Santander presenta una nueva edición de Ver
 ano Teenager que en esta ocasión ofrecerá siete campamentos urbanos sema
 nales dirigidos a cubrir el tiempo de ocio de adolescentes y jóvenes de l
 a ciudad durante las vacaciones.
SUMMARY:Campamentos urbanos juveniles "Verano Teenager"
END:VEVENT
BEGIN:VEVENT
DTSTAMP:20260421T234511Z
UID:event-2071-2022-08-11T10:00:00+02:00-2022-08-11T18:00:00+02:00
DTSTART;TZID=Europe/Madrid:20220811T100000
DTEND;TZID=Europe/Madrid:20220811T180000
DESCRIPTION:El Ayuntamiento de Santander presenta una nueva edición de Ver
 ano Teenager que en esta ocasión ofrecerá siete campamentos urbanos sema
 nales dirigidos a cubrir el tiempo de ocio de adolescentes y jóvenes de l
 a ciudad durante las vacaciones.
SUMMARY:Campamentos urbanos juveniles "Verano Teenager"
END:VEVENT
BEGIN:VEVENT
DTSTAMP:20260421T234511Z
UID:event-2071-2022-08-12T10:00:00+02:00-2022-08-12T18:00:00+02:00
DTSTART;TZID=Europe/Madrid:20220812T100000
DTEND;TZID=Europe/Madrid:20220812T180000
DESCRIPTION:El Ayuntamiento de Santander presenta una nueva edición de Ver
 ano Teenager que en esta ocasión ofrecerá siete campamentos urbanos sema
 nales dirigidos a cubrir el tiempo de ocio de adolescentes y jóvenes de l
 a ciudad durante las vacaciones.
SUMMARY:Campamentos urbanos juveniles "Verano Teenager"
END:VEVENT
BEGIN:VEVENT
DTSTAMP:20260421T234511Z
UID:event-2071-2022-08-13T10:00:00+02:00-2022-08-13T18:00:00+02:00
DTSTART;TZID=Europe/Madrid:20220813T100000
DTEND;TZID=Europe/Madrid:20220813T180000
DESCRIPTION:El Ayuntamiento de Santander presenta una nueva edición de Ver
 ano Teenager que en esta ocasión ofrecerá siete campamentos urbanos sema
 nales dirigidos a cubrir el tiempo de ocio de adolescentes y jóvenes de l
 a ciudad durante las vacaciones.
SUMMARY:Campamentos urbanos juveniles "Verano Teenager"
END:VEVENT
BEGIN:VEVENT
DTSTAMP:20260421T234511Z
UID:event-2071-2022-08-14T10:00:00+02:00-2022-08-14T18:00:00+02:00
DTSTART;TZID=Europe/Madrid:20220814T100000
DTEND;TZID=Europe/Madrid:20220814T180000
DESCRIPTION:El Ayuntamiento de Santander presenta una nueva edición de Ver
 ano Teenager que en esta ocasión ofrecerá siete campamentos urbanos sema
 nales dirigidos a cubrir el tiempo de ocio de adolescentes y jóvenes de l
 a ciudad durante las vacaciones.
SUMMARY:Campamentos urbanos juveniles "Verano Teenager"
END:VEVENT
BEGIN:VEVENT
DTSTAMP:20260421T234511Z
UID:event-2071-2022-08-15T10:00:00+02:00-2022-08-15T18:00:00+02:00
DTSTART;TZID=Europe/Madrid:20220815T100000
DTEND;TZID=Europe/Madrid:20220815T180000
DESCRIPTION:El Ayuntamiento de Santander presenta una nueva edición de Ver
 ano Teenager que en esta ocasión ofrecerá siete campamentos urbanos sema
 nales dirigidos a cubrir el tiempo de ocio de adolescentes y jóvenes de l
 a ciudad durante las vacaciones.
SUMMARY:Campamentos urbanos juveniles "Verano Teenager"
END:VEVENT
BEGIN:VEVENT
DTSTAMP:20260421T234511Z
UID:event-2071-2022-08-16T10:00:00+02:00-2022-08-16T18:00:00+02:00
DTSTART;TZID=Europe/Madrid:20220816T100000
DTEND;TZID=Europe/Madrid:20220816T180000
DESCRIPTION:El Ayuntamiento de Santander presenta una nueva edición de Ver
 ano Teenager que en esta ocasión ofrecerá siete campamentos urbanos sema
 nales dirigidos a cubrir el tiempo de ocio de adolescentes y jóvenes de l
 a ciudad durante las vacaciones.
SUMMARY:Campamentos urbanos juveniles "Verano Teenager"
END:VEVENT
BEGIN:VEVENT
DTSTAMP:20260421T234511Z
UID:event-2071-2022-08-17T10:00:00+02:00-2022-08-17T18:00:00+02:00
DTSTART;TZID=Europe/Madrid:20220817T100000
DTEND;TZID=Europe/Madrid:20220817T180000
DESCRIPTION:El Ayuntamiento de Santander presenta una nueva edición de Ver
 ano Teenager que en esta ocasión ofrecerá siete campamentos urbanos sema
 nales dirigidos a cubrir el tiempo de ocio de adolescentes y jóvenes de l
 a ciudad durante las vacaciones.
SUMMARY:Campamentos urbanos juveniles "Verano Teenager"
END:VEVENT
BEGIN:VEVENT
DTSTAMP:20260421T234511Z
UID:event-2071-2022-08-18T10:00:00+02:00-2022-08-18T18:00:00+02:00
DTSTART;TZID=Europe/Madrid:20220818T100000
DTEND;TZID=Europe/Madrid:20220818T180000
DESCRIPTION:El Ayuntamiento de Santander presenta una nueva edición de Ver
 ano Teenager que en esta ocasión ofrecerá siete campamentos urbanos sema
 nales dirigidos a cubrir el tiempo de ocio de adolescentes y jóvenes de l
 a ciudad durante las vacaciones.
SUMMARY:Campamentos urbanos juveniles "Verano Teenager"
END:VEVENT
BEGIN:VEVENT
DTSTAMP:20260421T234511Z
UID:event-2071-2022-08-19T10:00:00+02:00-2022-08-19T18:00:00+02:00
DTSTART;TZID=Europe/Madrid:20220819T100000
DTEND;TZID=Europe/Madrid:20220819T180000
DESCRIPTION:El Ayuntamiento de Santander presenta una nueva edición de Ver
 ano Teenager que en esta ocasión ofrecerá siete campamentos urbanos sema
 nales dirigidos a cubrir el tiempo de ocio de adolescentes y jóvenes de l
 a ciudad durante las vacaciones.
SUMMARY:Campamentos urbanos juveniles "Verano Teenager"
END:VEVENT
BEGIN:VEVENT
DTSTAMP:20260421T234511Z
UID:event-2071-2022-08-20T10:00:00+02:00-2022-08-20T18:00:00+02:00
DTSTART;TZID=Europe/Madrid:20220820T100000
DTEND;TZID=Europe/Madrid:20220820T180000
DESCRIPTION:El Ayuntamiento de Santander presenta una nueva edición de Ver
 ano Teenager que en esta ocasión ofrecerá siete campamentos urbanos sema
 nales dirigidos a cubrir el tiempo de ocio de adolescentes y jóvenes de l
 a ciudad durante las vacaciones.
SUMMARY:Campamentos urbanos juveniles "Verano Teenager"
END:VEVENT
BEGIN:VEVENT
DTSTAMP:20260421T234511Z
UID:event-2071-2022-08-21T10:00:00+02:00-2022-08-21T18:00:00+02:00
DTSTART;TZID=Europe/Madrid:20220821T100000
DTEND;TZID=Europe/Madrid:20220821T180000
DESCRIPTION:El Ayuntamiento de Santander presenta una nueva edición de Ver
 ano Teenager que en esta ocasión ofrecerá siete campamentos urbanos sema
 nales dirigidos a cubrir el tiempo de ocio de adolescentes y jóvenes de l
 a ciudad durante las vacaciones.
SUMMARY:Campamentos urbanos juveniles "Verano Teenager"
END:VEVENT
BEGIN:VEVENT
DTSTAMP:20260421T234511Z
UID:event-2071-2022-08-22T10:00:00+02:00-2022-08-22T18:00:00+02:00
DTSTART;TZID=Europe/Madrid:20220822T100000
DTEND;TZID=Europe/Madrid:20220822T180000
DESCRIPTION:El Ayuntamiento de Santander presenta una nueva edición de Ver
 ano Teenager que en esta ocasión ofrecerá siete campamentos urbanos sema
 nales dirigidos a cubrir el tiempo de ocio de adolescentes y jóvenes de l
 a ciudad durante las vacaciones.
SUMMARY:Campamentos urbanos juveniles "Verano Teenager"
END:VEVENT
BEGIN:VEVENT
DTSTAMP:20260421T234511Z
UID:event-2071-2022-08-23T10:00:00+02:00-2022-08-23T18:00:00+02:00
DTSTART;TZID=Europe/Madrid:20220823T100000
DTEND;TZID=Europe/Madrid:20220823T180000
DESCRIPTION:El Ayuntamiento de Santander presenta una nueva edición de Ver
 ano Teenager que en esta ocasión ofrecerá siete campamentos urbanos sema
 nales dirigidos a cubrir el tiempo de ocio de adolescentes y jóvenes de l
 a ciudad durante las vacaciones.
SUMMARY:Campamentos urbanos juveniles "Verano Teenager"
END:VEVENT
BEGIN:VEVENT
DTSTAMP:20260421T234511Z
UID:event-2071-2022-08-24T10:00:00+02:00-2022-08-24T18:00:00+02:00
DTSTART;TZID=Europe/Madrid:20220824T100000
DTEND;TZID=Europe/Madrid:20220824T180000
DESCRIPTION:El Ayuntamiento de Santander presenta una nueva edición de Ver
 ano Teenager que en esta ocasión ofrecerá siete campamentos urbanos sema
 nales dirigidos a cubrir el tiempo de ocio de adolescentes y jóvenes de l
 a ciudad durante las vacaciones.
SUMMARY:Campamentos urbanos juveniles "Verano Teenager"
END:VEVENT
BEGIN:VEVENT
DTSTAMP:20260421T234511Z
UID:event-2071-2022-08-25T10:00:00+02:00-2022-08-25T18:00:00+02:00
DTSTART;TZID=Europe/Madrid:20220825T100000
DTEND;TZID=Europe/Madrid:20220825T180000
DESCRIPTION:El Ayuntamiento de Santander presenta una nueva edición de Ver
 ano Teenager que en esta ocasión ofrecerá siete campamentos urbanos sema
 nales dirigidos a cubrir el tiempo de ocio de adolescentes y jóvenes de l
 a ciudad durante las vacaciones.
SUMMARY:Campamentos urbanos juveniles "Verano Teenager"
END:VEVENT
BEGIN:VEVENT
DTSTAMP:20260421T234511Z
UID:event-2071-2022-08-26T10:00:00+02:00-2022-08-26T18:00:00+02:00
DTSTART;TZID=Europe/Madrid:20220826T100000
DTEND;TZID=Europe/Madrid:20220826T180000
DESCRIPTION:El Ayuntamiento de Santander presenta una nueva edición de Ver
 ano Teenager que en esta ocasión ofrecerá siete campamentos urbanos sema
 nales dirigidos a cubrir el tiempo de ocio de adolescentes y jóvenes de l
 a ciudad durante las vacaciones.
SUMMARY:Campamentos urbanos juveniles "Verano Teenager"
END:VEVENT
END:VCALENDAR
