BEGIN:VCALENDAR
VERSION:2.0
PRODID:icalendar-ruby
CALSCALE:GREGORIAN
METHOD:PUBLISH
BEGIN:VEVENT
DTSTAMP:20260421T124943Z
UID:event-20674-2026-02-12T17:00:00+01:00-2026-02-12T18:30:00+01:00
DTSTART;TZID=Europe/Madrid:20260212T170000
DTEND;TZID=Europe/Madrid:20260212T183000
DESCRIPTION:¿Alguna vez te has sentido solo\, aunque estés con tus amigos
  o en medio de un montón de gente? En “Lost in the Crowd” vamos a hab
 lar de esas sensaciones que todos hemos vivido alguna vez. 
SUMMARY:Cápsulas de salud emocional: "Lost in the crowd"
END:VEVENT
END:VCALENDAR
